Back to Multiple platform build/check report for BioC 3.13 experimental data |
|
This page was generated on 2021-01-14 15:58:59 -0500 (Thu, 14 Jan 2021).
TO THE DEVELOPERS/MAINTAINERS OF THE diffloopdata PACKAGE: Please make sure to use the following settings in order to reproduce any error or warning you see on this page. |
Package 93/385 | Hostname | OS / Arch | INSTALL | BUILD | CHECK | ||||||
diffloopdata 1.19.0 Caleb Lareau
| malbec2 | Linux (Ubuntu 20.04.1 LTS) / x86_64 | OK | [ OK ] | OK | ![]() | |||||
riesling1 | Windows Server 2019 Standard / x64 | OK | OK | OK |
Package: diffloopdata |
Version: 1.19.0 |
Command: /home/biocbuild/bbs-3.13-bioc/R/bin/R CMD build --keep-empty-dirs --no-resave-data diffloopdata |
StartedAt: 2021-01-14 10:34:35 -0500 (Thu, 14 Jan 2021) |
EndedAt: 2021-01-14 10:34:46 -0500 (Thu, 14 Jan 2021) |
EllapsedTime: 11.3 seconds |
RetCode: 0 |
Status: OK |
PackageFile: diffloopdata_1.19.0.tar.gz |
PackageFileSize: 11.08 MiB |
############################################################################## ############################################################################## ### ### Running command: ### ### /home/biocbuild/bbs-3.13-bioc/R/bin/R CMD build --keep-empty-dirs --no-resave-data diffloopdata ### ############################################################################## ############################################################################## * checking for file ‘diffloopdata/DESCRIPTION’ ... OK * preparing ‘diffloopdata’: * checking DESCRIPTION meta-information ... OK * installing the package to build vignettes * creating vignettes ... OK * checking for LF line-endings in source and make files and shell scripts * checking for empty or unneeded directories * building ‘diffloopdata_1.19.0.tar.gz’