Back to Multiple platform build/check report for BioC 3.13 experimental data
A[B]CDEFGHIJKLMNOPQRSTUVWXYZ

BUILD report for blimaTestingData on malbec2

This page was generated on 2021-01-14 15:58:57 -0500 (Thu, 14 Jan 2021).

TO THE DEVELOPERS/MAINTAINERS OF THE blimaTestingData PACKAGE: Please make sure to use the following settings in order to reproduce any error or warning you see on this page.
Package 30/385HostnameOS / ArchINSTALLBUILDCHECK
blimaTestingData 1.11.0
Vojtech Kulvait
Snapshot Date: 2021-01-14 09:00:13 -0500 (Thu, 14 Jan 2021)
URL: https://git.bioconductor.org/packages/blimaTestingData
Branch: master
Last Commit: 6689baa
Last Changed Date: 2020-10-27 10:09:04 -0500 (Tue, 27 Oct 2020)
malbec2 Linux (Ubuntu 20.04.1 LTS) / x86_64  OK [ OK ] OK UNNEEDED, same version exists in internal repository
riesling1 Windows Server 2019 Standard / x64  OK  OK  OK 

Summary

Package: blimaTestingData
Version: 1.11.0
Command: /home/biocbuild/bbs-3.13-bioc/R/bin/R CMD build --keep-empty-dirs --no-resave-data blimaTestingData
StartedAt: 2021-01-14 10:17:55 -0500 (Thu, 14 Jan 2021)
EndedAt: 2021-01-14 10:18:35 -0500 (Thu, 14 Jan 2021)
EllapsedTime: 39.7 seconds
RetCode: 0
Status:  OK 
PackageFile: blimaTestingData_1.11.0.tar.gz
PackageFileSize: 98.27 MiB

Command output

##############################################################################
##############################################################################
###
### Running command:
###
###   /home/biocbuild/bbs-3.13-bioc/R/bin/R CMD build --keep-empty-dirs --no-resave-data blimaTestingData
###
##############################################################################
##############################################################################


* checking for file ‘blimaTestingData/DESCRIPTION’ ... OK
* preparing ‘blimaTestingData’:
* checking DESCRIPTION meta-information ... OK
* installing the package to build vignettes
* creating vignettes ... OK
* checking for LF line-endings in source and make files and shell scripts
* checking for empty or unneeded directories
* looking to see if a ‘data/datalist’ file should be added
* building ‘blimaTestingData_1.11.0.tar.gz’