Back to Build/check report for BioC 3.13 experimental data
ABCDEFGHIJKLMNOPQR[S]TUVWXYZ

Build/check report for BioC 3.13 experimental data

All results for package SCLCBam

This page was generated on 2021-04-15 20:56:22 -0400 (Thu, 15 Apr 2021).

Package 328/393HostnameOS / ArchINSTALLBUILDCHECK
SCLCBam 1.23.0  (landing page)
Oscar Krijgsman
Snapshot Date: 2021-04-15 09:00:03 -0400 (Thu, 15 Apr 2021)
URL: https://git.bioconductor.org/packages/SCLCBam
Branch: master
Last Commit: e3082d6
Last Changed Date: 2020-10-27 10:12:47 -0400 (Tue, 27 Oct 2020)
malbec2Linux (Ubuntu 20.04.2 LTS) / x86_64  OK    OK    OK  UNNEEDED, same version exists in internal repository