Back to Multiple platform build/check report for BioC 3.13 experimental data
ABCDEFGHIJKLMNOPQR[S]TUVWXYZ

CHECK report for SNAData on malbec2

This page was generated on 2021-01-14 15:59:05 -0500 (Thu, 14 Jan 2021).

TO THE DEVELOPERS/MAINTAINERS OF THE SNAData PACKAGE: Please make sure to use the following settings in order to reproduce any error or warning you see on this page.
Package 336/385HostnameOS / ArchINSTALLBUILDCHECK
SNAData 1.37.0
Denise Scholtens
Snapshot Date: 2021-01-14 09:00:13 -0500 (Thu, 14 Jan 2021)
URL: https://git.bioconductor.org/packages/SNAData
Branch: master
Last Commit: ac15621
Last Changed Date: 2020-10-27 09:46:57 -0500 (Tue, 27 Oct 2020)
malbec2 Linux (Ubuntu 20.04.1 LTS) / x86_64  OK  OK [ OK ]UNNEEDED, same version exists in internal repository
riesling1 Windows Server 2019 Standard / x64  OK  OK  OK 

Summary

Package: SNAData
Version: 1.37.0
Command: /home/biocbuild/bbs-3.13-bioc/R/bin/R CMD check --install=check:SNAData.install-out.txt --library=/home/biocbuild/bbs-3.13-bioc/R/library --no-vignettes --timings SNAData_1.37.0.tar.gz
StartedAt: 2021-01-14 12:50:27 -0500 (Thu, 14 Jan 2021)
EndedAt: 2021-01-14 12:50:56 -0500 (Thu, 14 Jan 2021)
EllapsedTime: 29.2 seconds
RetCode: 0
Status:  OK 
CheckDir: SNAData.Rcheck
Warnings: 0

Command output

##############################################################################
##############################################################################
###
### Running command:
###
###   /home/biocbuild/bbs-3.13-bioc/R/bin/R CMD check --install=check:SNAData.install-out.txt --library=/home/biocbuild/bbs-3.13-bioc/R/library --no-vignettes --timings SNAData_1.37.0.tar.gz
###
##############################################################################
##############################################################################


* using log directory ‘/home/biocbuild/bbs-3.13-data-experiment/meat/SNAData.Rcheck’
* using R Under development (unstable) (2021-01-05 r79797)
* using platform: x86_64-pc-linux-gnu (64-bit)
* using session charset: UTF-8
* using option ‘--no-vignettes’
* checking for file ‘SNAData/DESCRIPTION’ ... OK
* this is package ‘SNAData’ version ‘1.37.0’
* checking package namespace information ... OK
* checking package dependencies ... OK
* checking if this is a source package ... OK
* checking if there is a namespace ... OK
* checking for hidden files and directories ... NOTE
Found the following hidden files and directories:
  .git_fetch_output.txt
  .git_merge_output.txt
These were most likely included in error. See section ‘Package
structure’ in the ‘Writing R Extensions’ manual.
* checking for portable file names ... OK
* checking for sufficient/correct file permissions ... OK
* checking whether package ‘SNAData’ can be installed ... OK
* checking installed package size ... OK
* checking package directory ... OK
* checking ‘build’ directory ... OK
* checking DESCRIPTION meta-information ... NOTE
Malformed Description field: should contain one or more complete sentences.
* checking top-level files ... OK
* checking for left-over files ... OK
* checking index information ... OK
* checking package subdirectories ... OK
* checking R files for non-ASCII characters ... OK
* checking R files for syntax errors ... OK
* checking whether the package can be loaded ... OK
* checking whether the package can be loaded with stated dependencies ... OK
* checking whether the package can be unloaded cleanly ... OK
* checking whether the namespace can be loaded with stated dependencies ... OK
* checking whether the namespace can be unloaded cleanly ... OK
* checking dependencies in R code ... NOTE
'library' or 'require' call to ‘graph’ which was already attached by Depends.
  Please remove these calls from your code.
Package in Depends field not imported from: ‘graph’
  These packages need to be imported from (in the NAMESPACE file)
  for when this namespace is loaded but not attached.
* checking S3 generic/method consistency ... OK
* checking replacement functions ... OK
* checking foreign function calls ... OK
* checking R code for possible problems ... NOTE
File ‘SNAData/R/zzz.R’:
  .onLoad calls:
    require("graph")

Package startup functions should not change the search path.
See section ‘Good practice’ in '?.onAttach'.
* checking Rd files ... OK
* checking Rd metadata ... OK
* checking Rd cross-references ... OK
* checking for missing documentation entries ... OK
* checking for code/documentation mismatches ... OK
* checking Rd \usage sections ... OK
* checking Rd contents ... OK
* checking for unstated dependencies in examples ... OK
* checking contents of ‘data’ directory ... OK
* checking data for non-ASCII characters ... OK
* checking data for ASCII and uncompressed saves ... OK
* checking files in ‘vignettes’ ... OK
* checking examples ... OK
* checking for unstated dependencies in vignettes ... OK
* checking package vignettes in ‘inst/doc’ ... OK
* checking running R code from vignettes ... SKIPPED
* checking re-building of vignette outputs ... SKIPPED
* checking PDF version of manual ... OK
* DONE

Status: 4 NOTEs
See
  ‘/home/biocbuild/bbs-3.13-data-experiment/meat/SNAData.Rcheck/00check.log’
for details.



Installation output

SNAData.Rcheck/00install.out

##############################################################################
##############################################################################
###
### Running command:
###
###   /home/biocbuild/bbs-3.13-bioc/R/bin/R CMD INSTALL SNAData
###
##############################################################################
##############################################################################


* installing to library ‘/home/biocbuild/bbs-3.13-bioc/R/library’
* installing *source* package ‘SNAData’ ...
** using staged installation
** R
** data
** byte-compile and prepare package for lazy loading
** help
*** installing help indices
** building package indices
** installing vignettes
** testing if installed package can be loaded from temporary location
** testing if installed package can be loaded from final location
** testing if installed package keeps a record of temporary installation path
* DONE (SNAData)

Tests output


Example timings

SNAData.Rcheck/SNAData-Ex.timings

nameusersystemelapsed
CEOclubs0.0110.0040.016
Countries0.0050.0040.009
Florentine0.0020.0000.003
Freeman0.0070.0020.008
Krackhardt0.0020.0020.004