Back to Multiple platform build/check report for BioC 3.13 experimental data |
|
This page was generated on 2021-01-11 15:59:22 -0500 (Mon, 11 Jan 2021).
TO THE DEVELOPERS/MAINTAINERS OF THE HarmonizedTCGAData PACKAGE: Please make sure to use the following settings in order to reproduce any error or warning you see on this page. |
Package 161/385 | Hostname | OS / Arch | INSTALL | BUILD | CHECK | ||||||
HarmonizedTCGAData 1.13.0 Tianle Ma
| malbec2 | Linux (Ubuntu 20.04.1 LTS) / x86_64 | OK | [ OK ] | OK | ![]() | |||||
riesling1 | Windows Server 2019 Standard / x64 | OK | OK | OK |
Package: HarmonizedTCGAData |
Version: 1.13.0 |
Command: /home/biocbuild/bbs-3.13-bioc/R/bin/R CMD build --keep-empty-dirs --no-resave-data HarmonizedTCGAData |
StartedAt: 2021-01-11 10:57:07 -0500 (Mon, 11 Jan 2021) |
EndedAt: 2021-01-11 10:57:43 -0500 (Mon, 11 Jan 2021) |
EllapsedTime: 36.1 seconds |
RetCode: 0 |
Status: OK |
PackageFile: HarmonizedTCGAData_1.13.0.tar.gz |
PackageFileSize: 719.2 KiB |
############################################################################## ############################################################################## ### ### Running command: ### ### /home/biocbuild/bbs-3.13-bioc/R/bin/R CMD build --keep-empty-dirs --no-resave-data HarmonizedTCGAData ### ############################################################################## ############################################################################## * checking for file ‘HarmonizedTCGAData/DESCRIPTION’ ... OK * preparing ‘HarmonizedTCGAData’: * checking DESCRIPTION meta-information ... OK * installing the package to build vignettes * creating vignettes ... OK * checking for LF line-endings in source and make files and shell scripts * checking for empty or unneeded directories * building ‘HarmonizedTCGAData_1.13.0.tar.gz’