Back to Multiple platform build/check report for BioC 3.13 experimental data
ABCDEFGHIJKL[M]NOPQRSTUVWXYZ

BUILD report for MEEBOdata on malbec2

This page was generated on 2021-01-14 15:59:03 -0500 (Thu, 14 Jan 2021).

TO THE DEVELOPERS/MAINTAINERS OF THE MEEBOdata PACKAGE: Please make sure to use the following settings in order to reproduce any error or warning you see on this page.
Package 215/385HostnameOS / ArchINSTALLBUILDCHECK
MEEBOdata 1.29.0
Agnes Paquet
Snapshot Date: 2021-01-14 09:00:13 -0500 (Thu, 14 Jan 2021)
URL: https://git.bioconductor.org/packages/MEEBOdata
Branch: master
Last Commit: 217f6d7
Last Changed Date: 2020-10-27 09:46:47 -0500 (Tue, 27 Oct 2020)
malbec2 Linux (Ubuntu 20.04.1 LTS) / x86_64  OK [ OK ] WARNINGS UNNEEDED, same version exists in internal repository
riesling1 Windows Server 2019 Standard / x64  OK  OK  WARNINGS 

Summary

Package: MEEBOdata
Version: 1.29.0
Command: /home/biocbuild/bbs-3.13-bioc/R/bin/R CMD build --keep-empty-dirs --no-resave-data MEEBOdata
StartedAt: 2021-01-14 11:08:44 -0500 (Thu, 14 Jan 2021)
EndedAt: 2021-01-14 11:08:48 -0500 (Thu, 14 Jan 2021)
EllapsedTime: 4.0 seconds
RetCode: 0
Status:  OK 
PackageFile: MEEBOdata_1.29.0.tar.gz
PackageFileSize: 6.869 MiB

Command output

##############################################################################
##############################################################################
###
### Running command:
###
###   /home/biocbuild/bbs-3.13-bioc/R/bin/R CMD build --keep-empty-dirs --no-resave-data MEEBOdata
###
##############################################################################
##############################################################################


* checking for file ‘MEEBOdata/DESCRIPTION’ ... OK
* preparing ‘MEEBOdata’:
* checking DESCRIPTION meta-information ... OK
* checking for LF line-endings in source and make files and shell scripts
* checking for empty or unneeded directories
* looking to see if a ‘data/datalist’ file should be added
* building ‘MEEBOdata_1.29.0.tar.gz’