Back to Multiple platform build/check report for BioC 3.13 experimental data |
|
This page was generated on 2021-01-14 15:58:58 -0500 (Thu, 14 Jan 2021).
TO THE DEVELOPERS/MAINTAINERS OF THE ceu1kg PACKAGE: Please make sure to use the following settings in order to reproduce any error or warning you see on this page. |
Package 52/385 | Hostname | OS / Arch | INSTALL | BUILD | CHECK | ||||||
VJ Carey
| malbec2 | Linux (Ubuntu 20.04.1 LTS) / x86_64 | ERROR | [ ERROR ] | skipped | ||||||
riesling1 | Windows Server 2019 Standard / x64 | ERROR | ERROR | skipped |
Package: ceu1kg |
Version: 0.29.1 |
Command: /home/biocbuild/bbs-3.13-bioc/R/bin/R CMD build --keep-empty-dirs --no-resave-data ceu1kg |
StartedAt: 2021-01-14 10:23:44 -0500 (Thu, 14 Jan 2021) |
EndedAt: 2021-01-14 10:23:46 -0500 (Thu, 14 Jan 2021) |
EllapsedTime: 2.0 seconds |
RetCode: 1 |
Status: ERROR |
PackageFile: None |
PackageFileSize: NA |
############################################################################## ############################################################################## ### ### Running command: ### ### /home/biocbuild/bbs-3.13-bioc/R/bin/R CMD build --keep-empty-dirs --no-resave-data ceu1kg ### ############################################################################## ############################################################################## * checking for file ‘ceu1kg/DESCRIPTION’ ... OK * preparing ‘ceu1kg’: * checking DESCRIPTION meta-information ... OK * installing the package to build vignettes ----------------------------------- ERROR: dependencies ‘GGBase’, ‘GGtools’ are not available for package ‘ceu1kg’ * removing ‘/tmp/RtmpYLnvqD/Rinst3ba27e15d01999/ceu1kg’ ----------------------------------- ERROR: package installation failed