Back to Multiple platform build/check report for BioC 3.13 experimental data
ABCDEFGHIJKL[M]NOPQRSTUVWXYZ

BUILD report for mcsurvdata on malbec2

This page was generated on 2021-01-14 15:59:03 -0500 (Thu, 14 Jan 2021).

TO THE DEVELOPERS/MAINTAINERS OF THE mcsurvdata PACKAGE: Please make sure to use the following settings in order to reproduce any error or warning you see on this page.
Package 213/385HostnameOS / ArchINSTALLBUILDCHECK
mcsurvdata 1.9.0
Adria Caballe Mestres
Snapshot Date: 2021-01-14 09:00:13 -0500 (Thu, 14 Jan 2021)
URL: https://git.bioconductor.org/packages/mcsurvdata
Branch: master
Last Commit: 5869dff
Last Changed Date: 2020-10-27 10:27:31 -0500 (Tue, 27 Oct 2020)
malbec2 Linux (Ubuntu 20.04.1 LTS) / x86_64  OK [ OK ] OK UNNEEDED, same version exists in internal repository
riesling1 Windows Server 2019 Standard / x64  OK  OK  OK 

Summary

Package: mcsurvdata
Version: 1.9.0
Command: /home/biocbuild/bbs-3.13-bioc/R/bin/R CMD build --keep-empty-dirs --no-resave-data mcsurvdata
StartedAt: 2021-01-14 11:08:37 -0500 (Thu, 14 Jan 2021)
EndedAt: 2021-01-14 11:09:09 -0500 (Thu, 14 Jan 2021)
EllapsedTime: 32.3 seconds
RetCode: 0
Status:  OK 
PackageFile: mcsurvdata_1.9.0.tar.gz
PackageFileSize: 231.3 KiB

Command output

##############################################################################
##############################################################################
###
### Running command:
###
###   /home/biocbuild/bbs-3.13-bioc/R/bin/R CMD build --keep-empty-dirs --no-resave-data mcsurvdata
###
##############################################################################
##############################################################################


* checking for file ‘mcsurvdata/DESCRIPTION’ ... OK
* preparing ‘mcsurvdata’:
* checking DESCRIPTION meta-information ... OK
* installing the package to build vignettes
* creating vignettes ... OK
* checking for LF line-endings in source and make files and shell scripts
* checking for empty or unneeded directories
* building ‘mcsurvdata_1.9.0.tar.gz’