Back to Multiple platform build/check report for BioC 3.13 experimental data
ABCDEFGHIJKLMNOPQ[R]STUVWXYZ

BUILD report for RnBeads.hg19 on malbec2

This page was generated on 2021-01-14 15:59:05 -0500 (Thu, 14 Jan 2021).

TO THE DEVELOPERS/MAINTAINERS OF THE RnBeads.hg19 PACKAGE: Please make sure to use the following settings in order to reproduce any error or warning you see on this page.
Package 303/385HostnameOS / ArchINSTALLBUILDCHECK
RnBeads.hg19 1.23.0
RnBeadsAnnotationCreator
Snapshot Date: 2021-01-14 09:00:13 -0500 (Thu, 14 Jan 2021)
URL: https://git.bioconductor.org/packages/RnBeads.hg19
Branch: master
Last Commit: d816cbe
Last Changed Date: 2020-10-27 10:12:54 -0500 (Tue, 27 Oct 2020)
malbec2 Linux (Ubuntu 20.04.1 LTS) / x86_64  OK [ OK ] WARNINGS UNNEEDED, same version exists in internal repository
riesling1 Windows Server 2019 Standard / x64  OK  OK  WARNINGS 

Summary

Package: RnBeads.hg19
Version: 1.23.0
Command: /home/biocbuild/bbs-3.13-bioc/R/bin/R CMD build --keep-empty-dirs --no-resave-data RnBeads.hg19
StartedAt: 2021-01-14 11:21:19 -0500 (Thu, 14 Jan 2021)
EndedAt: 2021-01-14 11:21:32 -0500 (Thu, 14 Jan 2021)
EllapsedTime: 12.8 seconds
RetCode: 0
Status:  OK 
PackageFile: RnBeads.hg19_1.23.0.tar.gz
PackageFileSize: 100.1 MiB

Command output

##############################################################################
##############################################################################
###
### Running command:
###
###   /home/biocbuild/bbs-3.13-bioc/R/bin/R CMD build --keep-empty-dirs --no-resave-data RnBeads.hg19
###
##############################################################################
##############################################################################


* checking for file ‘RnBeads.hg19/DESCRIPTION’ ... OK
* preparing ‘RnBeads.hg19’:
* checking DESCRIPTION meta-information ... OK
* checking for LF line-endings in source and make files and shell scripts
* checking for empty or unneeded directories
* looking to see if a ‘data/datalist’ file should be added
* building ‘RnBeads.hg19_1.23.0.tar.gz’