Back to Multiple platform build/check report for BioC 3.13 experimental data
ABCDEFGHIJKLMNOPQR[S]TUVWXYZ

BUILD report for SCLCBam on malbec2

This page was generated on 2021-01-14 15:59:05 -0500 (Thu, 14 Jan 2021).

TO THE DEVELOPERS/MAINTAINERS OF THE SCLCBam PACKAGE: Please make sure to use the following settings in order to reproduce any error or warning you see on this page.
Package 322/385HostnameOS / ArchINSTALLBUILDCHECK
SCLCBam 1.23.0
Oscar Krijgsman
Snapshot Date: 2021-01-14 09:00:13 -0500 (Thu, 14 Jan 2021)
URL: https://git.bioconductor.org/packages/SCLCBam
Branch: master
Last Commit: e3082d6
Last Changed Date: 2020-10-27 10:12:47 -0500 (Tue, 27 Oct 2020)
malbec2 Linux (Ubuntu 20.04.1 LTS) / x86_64  OK [ OK ] OK UNNEEDED, same version exists in internal repository
riesling1 Windows Server 2019 Standard / x64  OK  OK  OK 

Summary

Package: SCLCBam
Version: 1.23.0
Command: /home/biocbuild/bbs-3.13-bioc/R/bin/R CMD build --keep-empty-dirs --no-resave-data SCLCBam
StartedAt: 2021-01-14 11:27:10 -0500 (Thu, 14 Jan 2021)
EndedAt: 2021-01-14 11:27:21 -0500 (Thu, 14 Jan 2021)
EllapsedTime: 11.0 seconds
RetCode: 0
Status:  OK 
PackageFile: SCLCBam_1.23.0.tar.gz
PackageFileSize: 57.84 MiB

Command output

##############################################################################
##############################################################################
###
### Running command:
###
###   /home/biocbuild/bbs-3.13-bioc/R/bin/R CMD build --keep-empty-dirs --no-resave-data SCLCBam
###
##############################################################################
##############################################################################


* checking for file ‘SCLCBam/DESCRIPTION’ ... OK
* preparing ‘SCLCBam’:
* checking DESCRIPTION meta-information ... OK
* installing the package to build vignettes
* creating vignettes ... OK
* checking for LF line-endings in source and make files and shell scripts
* checking for empty or unneeded directories
* building ‘SCLCBam_1.23.0.tar.gz’