Back to Multiple platform build/check report for BioC 3.13 experimental data
ABCDEFGHIJKLMNOPQRSTUVW[X]YZ

BUILD report for XhybCasneuf on malbec2

This page was generated on 2021-01-21 16:01:23 -0500 (Thu, 21 Jan 2021).

TO THE DEVELOPERS/MAINTAINERS OF THE XhybCasneuf PACKAGE: Please make sure to use the following settings in order to reproduce any error or warning you see on this page.
Package 379/386HostnameOS / ArchINSTALLBUILDCHECK
XhybCasneuf 1.29.0
Tineke Casneuf
Snapshot Date: 2021-01-21 09:00:14 -0500 (Thu, 21 Jan 2021)
URL: https://git.bioconductor.org/packages/XhybCasneuf
Branch: master
Last Commit: e8fd05c
Last Changed Date: 2020-10-27 09:48:27 -0500 (Tue, 27 Oct 2020)
malbec2 Linux (Ubuntu 20.04.1 LTS) / x86_64  OK [ OK ] WARNINGS UNNEEDED, same version exists in internal repository
riesling1 Windows Server 2019 Standard / x64  OK  OK  WARNINGS 

Summary

Package: XhybCasneuf
Version: 1.29.0
Command: /home/biocbuild/bbs-3.13-bioc/R/bin/R CMD build --keep-empty-dirs --no-resave-data XhybCasneuf
StartedAt: 2021-01-21 11:36:15 -0500 (Thu, 21 Jan 2021)
EndedAt: 2021-01-21 11:36:49 -0500 (Thu, 21 Jan 2021)
EllapsedTime: 34.0 seconds
RetCode: 0
Status:  OK 
PackageFile: XhybCasneuf_1.29.0.tar.gz
PackageFileSize: 3.281 MiB

Command output

##############################################################################
##############################################################################
###
### Running command:
###
###   /home/biocbuild/bbs-3.13-bioc/R/bin/R CMD build --keep-empty-dirs --no-resave-data XhybCasneuf
###
##############################################################################
##############################################################################


* checking for file ‘XhybCasneuf/DESCRIPTION’ ... OK
* preparing ‘XhybCasneuf’:
* checking DESCRIPTION meta-information ... OK
* checking whether ‘INDEX’ is up-to-date ... NO
* use ‘--force’ to remove the existing ‘INDEX’
* installing the package to build vignettes
* creating vignettes ... OK
* checking for LF line-endings in source and make files and shell scripts
* checking for empty or unneeded directories
* looking to see if a ‘data/datalist’ file should be added
* building ‘XhybCasneuf_1.29.0.tar.gz’