Back to Multiple platform build/check report for BioC 3.13 experimental data |
|
This page was generated on 2021-01-14 15:59:02 -0500 (Thu, 14 Jan 2021).
TO THE DEVELOPERS/MAINTAINERS OF THE hapmap100khind PACKAGE: Please make sure to use the following settings in order to reproduce any error or warning you see on this page. |
Package 153/385 | Hostname | OS / Arch | INSTALL | BUILD | CHECK | ||||||
hapmap100khind 1.33.0 Benilton Carvalho
| malbec2 | Linux (Ubuntu 20.04.1 LTS) / x86_64 | OK | [ OK ] | OK | ![]() | |||||
riesling1 | Windows Server 2019 Standard / x64 | OK | OK | OK |
Package: hapmap100khind |
Version: 1.33.0 |
Command: /home/biocbuild/bbs-3.13-bioc/R/bin/R CMD build --keep-empty-dirs --no-resave-data hapmap100khind |
StartedAt: 2021-01-14 10:53:56 -0500 (Thu, 14 Jan 2021) |
EndedAt: 2021-01-14 10:54:45 -0500 (Thu, 14 Jan 2021) |
EllapsedTime: 49.4 seconds |
RetCode: 0 |
Status: OK |
PackageFile: hapmap100khind_1.33.0.tar.gz |
PackageFileSize: 38.05 MiB |
############################################################################## ############################################################################## ### ### Running command: ### ### /home/biocbuild/bbs-3.13-bioc/R/bin/R CMD build --keep-empty-dirs --no-resave-data hapmap100khind ### ############################################################################## ############################################################################## * checking for file ‘hapmap100khind/DESCRIPTION’ ... OK * preparing ‘hapmap100khind’: * checking DESCRIPTION meta-information ... OK * checking for LF line-endings in source and make files and shell scripts * checking for empty or unneeded directories * building ‘hapmap100khind_1.33.0.tar.gz’