Back to Multiple platform build/check report for BioC 3.13 experimental data
ABCDE[F]GHIJKLMNOPQRSTUVWXYZ

BUILD report for FANTOM3and4CAGE on malbec2

This page was generated on 2021-01-11 15:59:21 -0500 (Mon, 11 Jan 2021).

TO THE DEVELOPERS/MAINTAINERS OF THE FANTOM3and4CAGE PACKAGE: Please make sure to use the following settings in order to reproduce any error or warning you see on this page.
Package 117/385HostnameOS / ArchINSTALLBUILDCHECK
FANTOM3and4CAGE 1.27.0
Vanja Haberle
Snapshot Date: 2021-01-11 09:00:09 -0500 (Mon, 11 Jan 2021)
URL: https://git.bioconductor.org/packages/FANTOM3and4CAGE
Branch: master
Last Commit: 7a1076a
Last Changed Date: 2020-10-27 10:00:55 -0500 (Tue, 27 Oct 2020)
malbec2 Linux (Ubuntu 20.04.1 LTS) / x86_64  OK [ OK ] OK UNNEEDED, same version exists in internal repository
riesling1 Windows Server 2019 Standard / x64  OK  OK  OK 

Summary

Package: FANTOM3and4CAGE
Version: 1.27.0
Command: /home/biocbuild/bbs-3.13-bioc/R/bin/R CMD build --keep-empty-dirs --no-resave-data FANTOM3and4CAGE
StartedAt: 2021-01-11 10:41:16 -0500 (Mon, 11 Jan 2021)
EndedAt: 2021-01-11 10:41:33 -0500 (Mon, 11 Jan 2021)
EllapsedTime: 17.0 seconds
RetCode: 0
Status:  OK 
PackageFile: FANTOM3and4CAGE_1.27.0.tar.gz
PackageFileSize: 34.62 MiB

Command output

##############################################################################
##############################################################################
###
### Running command:
###
###   /home/biocbuild/bbs-3.13-bioc/R/bin/R CMD build --keep-empty-dirs --no-resave-data FANTOM3and4CAGE
###
##############################################################################
##############################################################################


* checking for file ‘FANTOM3and4CAGE/DESCRIPTION’ ... OK
* preparing ‘FANTOM3and4CAGE’:
* checking DESCRIPTION meta-information ... OK
* installing the package to build vignettes
* creating vignettes ... OK
* checking for LF line-endings in source and make files and shell scripts
* checking for empty or unneeded directories
* looking to see if a ‘data/datalist’ file should be added
* building ‘FANTOM3and4CAGE_1.27.0.tar.gz’