Back to Multiple platform build/check report for BioC 3.13 experimental data
ABCDEFGHIJKL[M]NOPQRSTUVWXYZ

INSTALL report for MetaGxOvarian on malbec2

This page was generated on 2021-01-14 15:59:03 -0500 (Thu, 14 Jan 2021).

TO THE DEVELOPERS/MAINTAINERS OF THE MetaGxOvarian PACKAGE: Please make sure to use the following settings in order to reproduce any error or warning you see on this page.
Package 217/385HostnameOS / ArchINSTALLBUILDCHECK
MetaGxOvarian 1.11.0
Michael Zon
Snapshot Date: 2021-01-14 09:00:13 -0500 (Thu, 14 Jan 2021)
URL: https://git.bioconductor.org/packages/MetaGxOvarian
Branch: master
Last Commit: 0f765b3
Last Changed Date: 2020-10-27 10:26:19 -0500 (Tue, 27 Oct 2020)
malbec2 Linux (Ubuntu 20.04.1 LTS) / x86_64 [ OK ] OK  WARNINGS UNNEEDED, same version exists in internal repository
riesling1 Windows Server 2019 Standard / x64  OK  OK  OK 

Summary

Package: MetaGxOvarian
Version: 1.11.0
Command: /home/biocbuild/bbs-3.13-bioc/R/bin/R CMD INSTALL MetaGxOvarian
StartedAt: 2021-01-14 10:01:56 -0500 (Thu, 14 Jan 2021)
EndedAt: 2021-01-14 10:02:20 -0500 (Thu, 14 Jan 2021)
EllapsedTime: 23.9 seconds
RetCode: 0
Status:  OK 

Command output

##############################################################################
##############################################################################
###
### Running command:
###
###   /home/biocbuild/bbs-3.13-bioc/R/bin/R CMD INSTALL MetaGxOvarian
###
##############################################################################
##############################################################################


* installing to library ‘/home/biocbuild/bbs-3.13-bioc/R/library’
* installing *source* package ‘MetaGxOvarian’ ...
** using staged installation
** R
** inst
** byte-compile and prepare package for lazy loading
** help
*** installing help indices
** building package indices
** installing vignettes
** testing if installed package can be loaded from temporary location
** testing if installed package can be loaded from final location
** testing if installed package keeps a record of temporary installation path
* DONE (MetaGxOvarian)