Back to Multiple platform build/check report for BioC 3.13 experimental data |
|
This page was generated on 2021-01-18 15:58:31 -0500 (Mon, 18 Jan 2021).
TO THE DEVELOPERS/MAINTAINERS OF THE ASICSdata PACKAGE: Please make sure to use the following settings in order to reproduce any error or warning you see on this page. |
Package 20/385 | Hostname | OS / Arch | INSTALL | BUILD | CHECK | ||||||
ASICSdata 1.11.0 Gaëlle Lefort
| malbec2 | Linux (Ubuntu 20.04.1 LTS) / x86_64 | [ OK ] | OK | OK | ![]() | |||||
riesling1 | Windows Server 2019 Standard / x64 | OK | OK | OK |
Package: ASICSdata |
Version: 1.11.0 |
Command: /home/biocbuild/bbs-3.13-bioc/R/bin/R CMD INSTALL ASICSdata |
StartedAt: 2021-01-18 09:52:52 -0500 (Mon, 18 Jan 2021) |
EndedAt: 2021-01-18 09:53:15 -0500 (Mon, 18 Jan 2021) |
EllapsedTime: 22.7 seconds |
RetCode: 0 |
Status: OK |
############################################################################## ############################################################################## ### ### Running command: ### ### /home/biocbuild/bbs-3.13-bioc/R/bin/R CMD INSTALL ASICSdata ### ############################################################################## ############################################################################## * installing to library ‘/home/biocbuild/bbs-3.13-bioc/R/library’ * installing *source* package ‘ASICSdata’ ... ** using staged installation ** R ** inst ** byte-compile and prepare package for lazy loading ** help *** installing help indices ** building package indices ** installing vignettes ** testing if installed package can be loaded from temporary location ** testing if installed package can be loaded from final location ** testing if installed package keeps a record of temporary installation path * DONE (ASICSdata)