Back to Multiple platform build/check report for BioC 3.13 experimental data
AB[C]DEFGHIJKLMNOPQRSTUVWXYZ

BUILD report for CluMSIDdata on malbec2

This page was generated on 2021-01-21 16:01:05 -0500 (Thu, 21 Jan 2021).

TO THE DEVELOPERS/MAINTAINERS OF THE CluMSIDdata PACKAGE: Please make sure to use the following settings in order to reproduce any error or warning you see on this page.
Package 66/386HostnameOS / ArchINSTALLBUILDCHECK
CluMSIDdata 1.7.0
Tobias Depke
Snapshot Date: 2021-01-21 09:00:14 -0500 (Thu, 21 Jan 2021)
URL: https://git.bioconductor.org/packages/CluMSIDdata
Branch: master
Last Commit: 701b60a
Last Changed Date: 2020-10-27 10:28:53 -0500 (Tue, 27 Oct 2020)
malbec2 Linux (Ubuntu 20.04.1 LTS) / x86_64  OK [ OK ] OK UNNEEDED, same version exists in internal repository
riesling1 Windows Server 2019 Standard / x64  OK  OK  OK 

Summary

Package: CluMSIDdata
Version: 1.7.0
Command: /home/biocbuild/bbs-3.13-bioc/R/bin/R CMD build --keep-empty-dirs --no-resave-data CluMSIDdata
StartedAt: 2021-01-21 10:29:16 -0500 (Thu, 21 Jan 2021)
EndedAt: 2021-01-21 10:30:27 -0500 (Thu, 21 Jan 2021)
EllapsedTime: 70.3 seconds
RetCode: 0
Status:  OK 
PackageFile: CluMSIDdata_1.7.0.tar.gz
PackageFileSize: 47.27 MiB

Command output

##############################################################################
##############################################################################
###
### Running command:
###
###   /home/biocbuild/bbs-3.13-bioc/R/bin/R CMD build --keep-empty-dirs --no-resave-data CluMSIDdata
###
##############################################################################
##############################################################################


* checking for file ‘CluMSIDdata/DESCRIPTION’ ... OK
* preparing ‘CluMSIDdata’:
* checking DESCRIPTION meta-information ... OK
* checking for LF line-endings in source and make files and shell scripts
* checking for empty or unneeded directories
* building ‘CluMSIDdata_1.7.0.tar.gz’