Back to Multiple platform build/check report for BioC 3.13 experimental data
AB[C]DEFGHIJKLMNOPQRSTUVWXYZ

INSTALL report for CellMapperData on malbec2

This page was generated on 2021-01-21 16:01:04 -0500 (Thu, 21 Jan 2021).

TO THE DEVELOPERS/MAINTAINERS OF THE CellMapperData PACKAGE: Please make sure to use the following settings in order to reproduce any error or warning you see on this page.
Package 51/386HostnameOS / ArchINSTALLBUILDCHECK
CellMapperData 1.17.0
Brad Nelms
Snapshot Date: 2021-01-21 09:00:14 -0500 (Thu, 21 Jan 2021)
URL: https://git.bioconductor.org/packages/CellMapperData
Branch: master
Last Commit: 95f5e46
Last Changed Date: 2020-10-27 10:21:34 -0500 (Tue, 27 Oct 2020)
malbec2 Linux (Ubuntu 20.04.1 LTS) / x86_64 [ OK ] OK  OK UNNEEDED, same version exists in internal repository
riesling1 Windows Server 2019 Standard / x64  OK  OK  OK 

Summary

Package: CellMapperData
Version: 1.17.0
Command: /home/biocbuild/bbs-3.13-bioc/R/bin/R CMD INSTALL CellMapperData
StartedAt: 2021-01-21 10:02:33 -0500 (Thu, 21 Jan 2021)
EndedAt: 2021-01-21 10:02:41 -0500 (Thu, 21 Jan 2021)
EllapsedTime: 8.6 seconds
RetCode: 0
Status:  OK 

Command output

##############################################################################
##############################################################################
###
### Running command:
###
###   /home/biocbuild/bbs-3.13-bioc/R/bin/R CMD INSTALL CellMapperData
###
##############################################################################
##############################################################################


* installing to library ‘/home/biocbuild/bbs-3.13-bioc/R/library’
* installing *source* package ‘CellMapperData’ ...
** using staged installation
** inst
** help
*** installing help indices
** building package indices
** installing vignettes
** testing if installed package can be loaded from temporary location
Warning: replacing previous import ‘stats::sd’ by ‘S4Vectors::sd’ when loading ‘CellMapper’
Warning: replacing previous import ‘stats::var’ by ‘S4Vectors::var’ when loading ‘CellMapper’
** testing if installed package can be loaded from final location
Warning: replacing previous import ‘stats::sd’ by ‘S4Vectors::sd’ when loading ‘CellMapper’
Warning: replacing previous import ‘stats::var’ by ‘S4Vectors::var’ when loading ‘CellMapper’
** testing if installed package keeps a record of temporary installation path
* DONE (CellMapperData)