Back to Multiple platform build/check report for BioC 3.13 experimental data
ABCDEFGHIJKLMNOPQR[S]TUVWXYZ

INSTALL report for SomaticCancerAlterations on malbec2

This page was generated on 2021-01-14 15:59:05 -0500 (Thu, 14 Jan 2021).

TO THE DEVELOPERS/MAINTAINERS OF THE SomaticCancerAlterations PACKAGE: Please make sure to use the following settings in order to reproduce any error or warning you see on this page.
Package 340/385HostnameOS / ArchINSTALLBUILDCHECK
SomaticCancerAlterations 1.27.1
Julian Gehring
Snapshot Date: 2021-01-14 09:00:13 -0500 (Thu, 14 Jan 2021)
URL: https://git.bioconductor.org/packages/SomaticCancerAlterations
Branch: master
Last Commit: 6c98820
Last Changed Date: 2020-11-28 13:58:54 -0500 (Sat, 28 Nov 2020)
malbec2 Linux (Ubuntu 20.04.1 LTS) / x86_64 [ OK ] OK  OK UNNEEDED, same version exists in internal repository
riesling1 Windows Server 2019 Standard / x64  OK  OK  OK 

Summary

Package: SomaticCancerAlterations
Version: 1.27.1
Command: /home/biocbuild/bbs-3.13-bioc/R/bin/R CMD INSTALL SomaticCancerAlterations
StartedAt: 2021-01-14 09:56:54 -0500 (Thu, 14 Jan 2021)
EndedAt: 2021-01-14 09:57:05 -0500 (Thu, 14 Jan 2021)
EllapsedTime: 11.0 seconds
RetCode: 0
Status:  OK 

Command output

##############################################################################
##############################################################################
###
### Running command:
###
###   /home/biocbuild/bbs-3.13-bioc/R/bin/R CMD INSTALL SomaticCancerAlterations
###
##############################################################################
##############################################################################


* installing to library ‘/home/biocbuild/bbs-3.13-bioc/R/library’
* installing *source* package ‘SomaticCancerAlterations’ ...
** using staged installation
** R
** data
** inst
** byte-compile and prepare package for lazy loading
** help
*** installing help indices
** building package indices
** installing vignettes
** testing if installed package can be loaded from temporary location
** testing if installed package can be loaded from final location
** testing if installed package keeps a record of temporary installation path
* DONE (SomaticCancerAlterations)