Back to Multiple platform build/check report for BioC 3.13 experimental data
ABCDEFGHIJKLMNO[P]QRSTUVWXYZ

BUILD report for PWMEnrich.Mmusculus.background on malbec2

This page was generated on 2021-01-14 15:59:04 -0500 (Thu, 14 Jan 2021).

TO THE DEVELOPERS/MAINTAINERS OF THE PWMEnrich.Mmusculus.background PACKAGE: Please make sure to use the following settings in order to reproduce any error or warning you see on this page.
Package 282/385HostnameOS / ArchINSTALLBUILDCHECK
PWMEnrich.Mmusculus.background 4.25.0
Diego Diez
Snapshot Date: 2021-01-14 09:00:13 -0500 (Thu, 14 Jan 2021)
URL: https://git.bioconductor.org/packages/PWMEnrich.Mmusculus.background
Branch: master
Last Commit: 87e7fcf
Last Changed Date: 2020-10-27 10:05:50 -0500 (Tue, 27 Oct 2020)
malbec2 Linux (Ubuntu 20.04.1 LTS) / x86_64  OK [ OK ] OK UNNEEDED, same version exists in internal repository
riesling1 Windows Server 2019 Standard / x64  OK  OK  OK 

Summary

Package: PWMEnrich.Mmusculus.background
Version: 4.25.0
Command: /home/biocbuild/bbs-3.13-bioc/R/bin/R CMD build --keep-empty-dirs --no-resave-data PWMEnrich.Mmusculus.background
StartedAt: 2021-01-14 11:18:03 -0500 (Thu, 14 Jan 2021)
EndedAt: 2021-01-14 11:18:06 -0500 (Thu, 14 Jan 2021)
EllapsedTime: 2.4 seconds
RetCode: 0
Status:  OK 
PackageFile: PWMEnrich.Mmusculus.background_4.25.0.tar.gz
PackageFileSize: 10.34 MiB

Command output

##############################################################################
##############################################################################
###
### Running command:
###
###   /home/biocbuild/bbs-3.13-bioc/R/bin/R CMD build --keep-empty-dirs --no-resave-data PWMEnrich.Mmusculus.background
###
##############################################################################
##############################################################################


* checking for file ‘PWMEnrich.Mmusculus.background/DESCRIPTION’ ... OK
* preparing ‘PWMEnrich.Mmusculus.background’:
* checking DESCRIPTION meta-information ... OK
* checking for LF line-endings in source and make files and shell scripts
* checking for empty or unneeded directories
* looking to see if a ‘data/datalist’ file should be added
* building ‘PWMEnrich.Mmusculus.background_4.25.0.tar.gz’