Back to Multiple platform build/check report for BioC 3.13 experimental data
AB[C]DEFGHIJKLMNOPQRSTUVWXYZ

INSTALL report for CONFESSdata on malbec2

This page was generated on 2021-01-11 15:59:20 -0500 (Mon, 11 Jan 2021).

TO THE DEVELOPERS/MAINTAINERS OF THE CONFESSdata PACKAGE: Please make sure to use the following settings in order to reproduce any error or warning you see on this page.
Package 72/385HostnameOS / ArchINSTALLBUILDCHECK
CONFESSdata 1.19.0
Diana LOW
Snapshot Date: 2021-01-11 09:00:09 -0500 (Mon, 11 Jan 2021)
URL: https://git.bioconductor.org/packages/CONFESSdata
Branch: master
Last Commit: c0be77c
Last Changed Date: 2020-10-27 10:18:44 -0500 (Tue, 27 Oct 2020)
malbec2 Linux (Ubuntu 20.04.1 LTS) / x86_64 [ OK ] OK  OK UNNEEDED, same version exists in internal repository
riesling1 Windows Server 2019 Standard / x64  OK  OK  OK 

Summary

Package: CONFESSdata
Version: 1.19.0
Command: /home/biocbuild/bbs-3.13-bioc/R/bin/R CMD INSTALL CONFESSdata
StartedAt: 2021-01-11 09:52:46 -0500 (Mon, 11 Jan 2021)
EndedAt: 2021-01-11 09:53:01 -0500 (Mon, 11 Jan 2021)
EllapsedTime: 15.0 seconds
RetCode: 0
Status:  OK 

Command output

##############################################################################
##############################################################################
###
### Running command:
###
###   /home/biocbuild/bbs-3.13-bioc/R/bin/R CMD INSTALL CONFESSdata
###
##############################################################################
##############################################################################


* installing to library ‘/home/biocbuild/bbs-3.13-bioc/R/library’
* installing *source* package ‘CONFESSdata’ ...
** using staged installation
** data
*** moving datasets to lazyload DB
** inst
** help
*** installing help indices
** building package indices
** testing if installed package can be loaded from temporary location
** testing if installed package can be loaded from final location
** testing if installed package keeps a record of temporary installation path
* DONE (CONFESSdata)