Back to Multiple platform build/check report for BioC 3.13 experimental data
ABCDEFGHIJKL[M]NOPQRSTUVWXYZ

BUILD report for MUGAExampleData on malbec2

This page was generated on 2021-01-14 15:59:04 -0500 (Thu, 14 Jan 2021).

TO THE DEVELOPERS/MAINTAINERS OF THE MUGAExampleData PACKAGE: Please make sure to use the following settings in order to reproduce any error or warning you see on this page.
Package 242/385HostnameOS / ArchINSTALLBUILDCHECK
MUGAExampleData 1.11.0
Daniel Gatti
Snapshot Date: 2021-01-14 09:00:13 -0500 (Thu, 14 Jan 2021)
URL: https://git.bioconductor.org/packages/MUGAExampleData
Branch: master
Last Commit: eae8f71
Last Changed Date: 2020-10-27 10:09:20 -0500 (Tue, 27 Oct 2020)
malbec2 Linux (Ubuntu 20.04.1 LTS) / x86_64  OK [ OK ] OK UNNEEDED, same version exists in internal repository
riesling1 Windows Server 2019 Standard / x64  OK  OK  WARNINGS 

Summary

Package: MUGAExampleData
Version: 1.11.0
Command: /home/biocbuild/bbs-3.13-bioc/R/bin/R CMD build --keep-empty-dirs --no-resave-data MUGAExampleData
StartedAt: 2021-01-14 11:11:55 -0500 (Thu, 14 Jan 2021)
EndedAt: 2021-01-14 11:12:08 -0500 (Thu, 14 Jan 2021)
EllapsedTime: 13.3 seconds
RetCode: 0
Status:  OK 
PackageFile: MUGAExampleData_1.11.0.tar.gz
PackageFileSize: 88.58 MiB

Command output

##############################################################################
##############################################################################
###
### Running command:
###
###   /home/biocbuild/bbs-3.13-bioc/R/bin/R CMD build --keep-empty-dirs --no-resave-data MUGAExampleData
###
##############################################################################
##############################################################################


* checking for file ‘MUGAExampleData/DESCRIPTION’ ... OK
* preparing ‘MUGAExampleData’:
* checking DESCRIPTION meta-information ... OK
* installing the package to build vignettes
* creating vignettes ... OK
* checking for LF line-endings in source and make files and shell scripts
* checking for empty or unneeded directories
* looking to see if a ‘data/datalist’ file should be added
* building ‘MUGAExampleData_1.11.0.tar.gz’