Back to Multiple platform build/check report for BioC 3.13 experimental data
ABC[D]EFGHIJKLMNOPQRSTUVWXYZ

INSTALL report for depmap on malbec2

This page was generated on 2021-01-21 16:01:07 -0500 (Thu, 21 Jan 2021).

TO THE DEVELOPERS/MAINTAINERS OF THE depmap PACKAGE: Please make sure to use the following settings in order to reproduce any error or warning you see on this page.
Package 90/386HostnameOS / ArchINSTALLBUILDCHECK
depmap 1.5.1
Laurent Gatto
Snapshot Date: 2021-01-21 09:00:14 -0500 (Thu, 21 Jan 2021)
URL: https://git.bioconductor.org/packages/depmap
Branch: master
Last Commit: f37525a
Last Changed Date: 2020-11-26 15:36:28 -0500 (Thu, 26 Nov 2020)
malbec2 Linux (Ubuntu 20.04.1 LTS) / x86_64 [ OK ] OK  OK UNNEEDED, same version exists in internal repository
riesling1 Windows Server 2019 Standard / x64  OK  OK  OK 

Summary

Package: depmap
Version: 1.5.1
Command: /home/biocbuild/bbs-3.13-bioc/R/bin/R CMD INSTALL depmap
StartedAt: 2021-01-21 10:03:46 -0500 (Thu, 21 Jan 2021)
EndedAt: 2021-01-21 10:04:13 -0500 (Thu, 21 Jan 2021)
EllapsedTime: 26.5 seconds
RetCode: 0
Status:  OK 

Command output

##############################################################################
##############################################################################
###
### Running command:
###
###   /home/biocbuild/bbs-3.13-bioc/R/bin/R CMD INSTALL depmap
###
##############################################################################
##############################################################################


* installing to library ‘/home/biocbuild/bbs-3.13-bioc/R/library’
* installing *source* package ‘depmap’ ...
** using staged installation
** R
** inst
** byte-compile and prepare package for lazy loading
** help
*** installing help indices
** building package indices
** installing vignettes
** testing if installed package can be loaded from temporary location
snapshotDate(): 2021-01-20
snapshotDate(): 2021-01-20
snapshotDate(): 2021-01-20
** testing if installed package can be loaded from final location
snapshotDate(): 2021-01-20
snapshotDate(): 2021-01-20
snapshotDate(): 2021-01-20
** testing if installed package keeps a record of temporary installation path
* DONE (depmap)