Back to Multiple platform build/check report for BioC 3.13 experimental data
[A]BCDEFGHIJKLMNOPQRSTUVWXYZ

INSTALL report for affydata on malbec2

This page was generated on 2021-01-14 15:58:56 -0500 (Thu, 14 Jan 2021).

TO THE DEVELOPERS/MAINTAINERS OF THE affydata PACKAGE: Please make sure to use the following settings in order to reproduce any error or warning you see on this page.
Package 4/385HostnameOS / ArchINSTALLBUILDCHECK
affydata 1.39.0
Harris Jaffee
Snapshot Date: 2021-01-14 09:00:13 -0500 (Thu, 14 Jan 2021)
URL: https://git.bioconductor.org/packages/affydata
Branch: master
Last Commit: 080210b
Last Changed Date: 2020-10-27 09:44:24 -0500 (Tue, 27 Oct 2020)
malbec2 Linux (Ubuntu 20.04.1 LTS) / x86_64 [ OK ] OK  WARNINGS UNNEEDED, same version exists in internal repository
riesling1 Windows Server 2019 Standard / x64  OK  OK  WARNINGS 

Summary

Package: affydata
Version: 1.39.0
Command: /home/biocbuild/bbs-3.13-bioc/R/bin/R CMD INSTALL affydata
StartedAt: 2021-01-14 09:55:09 -0500 (Thu, 14 Jan 2021)
EndedAt: 2021-01-14 09:55:16 -0500 (Thu, 14 Jan 2021)
EllapsedTime: 6.9 seconds
RetCode: 0
Status:  OK 

Command output

##############################################################################
##############################################################################
###
### Running command:
###
###   /home/biocbuild/bbs-3.13-bioc/R/bin/R CMD INSTALL affydata
###
##############################################################################
##############################################################################


* installing to library ‘/home/biocbuild/bbs-3.13-bioc/R/library’
* installing *source* package ‘affydata’ ...
** using staged installation
** R
** data
** inst
** byte-compile and prepare package for lazy loading
** help
*** installing help indices
** building package indices
** installing vignettes
** testing if installed package can be loaded from temporary location
     Package    LibPath                                                        
[1,] "affydata" "/home/biocbuild/bbs-3.13-bioc/R/library/00LOCK-affydata/00new"
     Item       Title                        
[1,] "Dilution" "AffyBatch instance Dilution"
** testing if installed package can be loaded from final location
     Package    LibPath                                   Item      
[1,] "affydata" "/home/biocbuild/bbs-3.13-bioc/R/library" "Dilution"
     Title                        
[1,] "AffyBatch instance Dilution"
** testing if installed package keeps a record of temporary installation path
* DONE (affydata)