Back to Multiple platform build/check report for BioC 3.13 experimental data
ABCDEFGHIJKLMNOPQ[R]STUVWXYZ

BUILD report for RTCGA.clinical on malbec2

This page was generated on 2021-01-21 16:01:20 -0500 (Thu, 21 Jan 2021).

TO THE DEVELOPERS/MAINTAINERS OF THE RTCGA.clinical PACKAGE: Please make sure to use the following settings in order to reproduce any error or warning you see on this page.
Package 310/386HostnameOS / ArchINSTALLBUILDCHECK
RTCGA.clinical 20151101.21.0
Marcin Kosinski
Snapshot Date: 2021-01-21 09:00:14 -0500 (Thu, 21 Jan 2021)
URL: https://git.bioconductor.org/packages/RTCGA.clinical
Branch: master
Last Commit: c14e85c
Last Changed Date: 2020-10-27 10:13:45 -0500 (Tue, 27 Oct 2020)
malbec2 Linux (Ubuntu 20.04.1 LTS) / x86_64  OK [ OK ] OK UNNEEDED, same version exists in internal repository
riesling1 Windows Server 2019 Standard / x64  OK  OK  WARNINGS 

Summary

Package: RTCGA.clinical
Version: 20151101.21.0
Command: /home/biocbuild/bbs-3.13-bioc/R/bin/R CMD build --keep-empty-dirs --no-resave-data RTCGA.clinical
StartedAt: 2021-01-21 11:19:11 -0500 (Thu, 21 Jan 2021)
EndedAt: 2021-01-21 11:20:18 -0500 (Thu, 21 Jan 2021)
EllapsedTime: 67.5 seconds
RetCode: 0
Status:  OK 
PackageFile: RTCGA.clinical_20151101.21.0.tar.gz
PackageFileSize: 13.97 MiB

Command output

##############################################################################
##############################################################################
###
### Running command:
###
###   /home/biocbuild/bbs-3.13-bioc/R/bin/R CMD build --keep-empty-dirs --no-resave-data RTCGA.clinical
###
##############################################################################
##############################################################################


* checking for file ‘RTCGA.clinical/DESCRIPTION’ ... OK
* preparing ‘RTCGA.clinical’:
* checking DESCRIPTION meta-information ... OK
* installing the package to build vignettes
* creating vignettes ... OK
* checking for LF line-endings in source and make files and shell scripts
* checking for empty or unneeded directories
* building ‘RTCGA.clinical_20151101.21.0.tar.gz’