Back to Multiple platform build/check report for BioC 3.13 experimental data
ABCDEFGHI[J]KLMNOPQRSTUVWXYZ

BUILD report for JctSeqData on malbec2

This page was generated on 2021-01-21 16:01:13 -0500 (Thu, 21 Jan 2021).

TO THE DEVELOPERS/MAINTAINERS OF THE JctSeqData PACKAGE: Please make sure to use the following settings in order to reproduce any error or warning you see on this page.
Package 190/386HostnameOS / ArchINSTALLBUILDCHECK
JctSeqData 1.21.1
Stephen Hartley
Snapshot Date: 2021-01-21 09:00:14 -0500 (Thu, 21 Jan 2021)
URL: https://git.bioconductor.org/packages/JctSeqData
Branch: master
Last Commit: 50b6ba0
Last Changed Date: 2020-11-30 08:25:59 -0500 (Mon, 30 Nov 2020)
malbec2 Linux (Ubuntu 20.04.1 LTS) / x86_64  OK [ OK ] ERROR 
riesling1 Windows Server 2019 Standard / x64  OK  OK  ERROR 

Summary

Package: JctSeqData
Version: 1.21.1
Command: /home/biocbuild/bbs-3.13-bioc/R/bin/R CMD build --keep-empty-dirs --no-resave-data JctSeqData
StartedAt: 2021-01-21 11:02:21 -0500 (Thu, 21 Jan 2021)
EndedAt: 2021-01-21 11:02:37 -0500 (Thu, 21 Jan 2021)
EllapsedTime: 15.1 seconds
RetCode: 0
Status:  OK 
PackageFile: JctSeqData_1.21.1.tar.gz
PackageFileSize: 20.63 MiB

Command output

##############################################################################
##############################################################################
###
### Running command:
###
###   /home/biocbuild/bbs-3.13-bioc/R/bin/R CMD build --keep-empty-dirs --no-resave-data JctSeqData
###
##############################################################################
##############################################################################


* checking for file ‘JctSeqData/DESCRIPTION’ ... OK
* preparing ‘JctSeqData’:
* checking DESCRIPTION meta-information ... OK
* installing the package to build vignettes
* creating vignettes ... OK
* checking for LF line-endings in source and make files and shell scripts
* checking for empty or unneeded directories
* building ‘JctSeqData_1.21.1.tar.gz’