Back to Multiple platform build/check report for BioC 3.13 experimental data
ABCDEFGHIJKLM[N]OPQRSTUVWXYZ

INSTALL report for nanotubes on malbec2

This page was generated on 2021-01-14 15:59:04 -0500 (Thu, 14 Jan 2021).

TO THE DEVELOPERS/MAINTAINERS OF THE nanotubes PACKAGE: Please make sure to use the following settings in order to reproduce any error or warning you see on this page.
Package 246/385HostnameOS / ArchINSTALLBUILDCHECK
nanotubes 1.7.0
Malte Thodberg
Snapshot Date: 2021-01-14 09:00:13 -0500 (Thu, 14 Jan 2021)
URL: https://git.bioconductor.org/packages/nanotubes
Branch: master
Last Commit: e9d6b69
Last Changed Date: 2020-10-27 10:29:55 -0500 (Tue, 27 Oct 2020)
malbec2 Linux (Ubuntu 20.04.1 LTS) / x86_64 [ OK ] OK  OK UNNEEDED, same version exists in internal repository
riesling1 Windows Server 2019 Standard / x64  OK  OK  OK 

Summary

Package: nanotubes
Version: 1.7.0
Command: /home/biocbuild/bbs-3.13-bioc/R/bin/R CMD INSTALL nanotubes
StartedAt: 2021-01-14 09:53:12 -0500 (Thu, 14 Jan 2021)
EndedAt: 2021-01-14 09:53:26 -0500 (Thu, 14 Jan 2021)
EllapsedTime: 13.8 seconds
RetCode: 0
Status:  OK 

Command output

##############################################################################
##############################################################################
###
### Running command:
###
###   /home/biocbuild/bbs-3.13-bioc/R/bin/R CMD INSTALL nanotubes
###
##############################################################################
##############################################################################


* installing to library ‘/home/biocbuild/bbs-3.13-bioc/R/library’
* installing *source* package ‘nanotubes’ ...
** using staged installation
** R
** data
** inst
** byte-compile and prepare package for lazy loading
** help
*** installing help indices
** building package indices
** installing vignettes
** testing if installed package can be loaded from temporary location
** testing if installed package can be loaded from final location
** testing if installed package keeps a record of temporary installation path
* DONE (nanotubes)