Back to Multiple platform build/check report for BioC 3.13 experimental data
ABCDEFGHIJK[L]MNOPQRSTUVWXYZ

BUILD report for LungCancerACvsSCCGEO on malbec2

This page was generated on 2021-01-14 15:59:03 -0500 (Thu, 14 Jan 2021).

TO THE DEVELOPERS/MAINTAINERS OF THE LungCancerACvsSCCGEO PACKAGE: Please make sure to use the following settings in order to reproduce any error or warning you see on this page.
Package 200/385HostnameOS / ArchINSTALLBUILDCHECK
LungCancerACvsSCCGEO 1.27.0
Adi Laurentiu Tarca
Snapshot Date: 2021-01-14 09:00:13 -0500 (Thu, 14 Jan 2021)
URL: https://git.bioconductor.org/packages/LungCancerACvsSCCGEO
Branch: master
Last Commit: a8931b1
Last Changed Date: 2020-10-27 10:04:23 -0500 (Tue, 27 Oct 2020)
malbec2 Linux (Ubuntu 20.04.1 LTS) / x86_64  OK [ OK ] OK UNNEEDED, same version exists in internal repository
riesling1 Windows Server 2019 Standard / x64  OK  OK  OK 

Summary

Package: LungCancerACvsSCCGEO
Version: 1.27.0
Command: /home/biocbuild/bbs-3.13-bioc/R/bin/R CMD build --keep-empty-dirs --no-resave-data LungCancerACvsSCCGEO
StartedAt: 2021-01-14 11:05:49 -0500 (Thu, 14 Jan 2021)
EndedAt: 2021-01-14 11:09:05 -0500 (Thu, 14 Jan 2021)
EllapsedTime: 196.3 seconds
RetCode: 0
Status:  OK 
PackageFile: LungCancerACvsSCCGEO_1.27.0.tar.gz
PackageFileSize: 138.6 MiB

Command output

##############################################################################
##############################################################################
###
### Running command:
###
###   /home/biocbuild/bbs-3.13-bioc/R/bin/R CMD build --keep-empty-dirs --no-resave-data LungCancerACvsSCCGEO
###
##############################################################################
##############################################################################


* checking for file ‘LungCancerACvsSCCGEO/DESCRIPTION’ ... OK
* preparing ‘LungCancerACvsSCCGEO’:
* checking DESCRIPTION meta-information ... OK
* checking for LF line-endings in source and make files and shell scripts
* checking for empty or unneeded directories
* looking to see if a ‘data/datalist’ file should be added
* building ‘LungCancerACvsSCCGEO_1.27.0.tar.gz’