Back to Multiple platform build/check report for BioC 3.13 experimental data
ABCDEFGHIJKL[M]NOPQRSTUVWXYZ

INSTALL report for mCSEAdata on malbec2

This page was generated on 2021-01-14 15:59:03 -0500 (Thu, 14 Jan 2021).

TO THE DEVELOPERS/MAINTAINERS OF THE mCSEAdata PACKAGE: Please make sure to use the following settings in order to reproduce any error or warning you see on this page.
Package 212/385HostnameOS / ArchINSTALLBUILDCHECK
mCSEAdata 1.11.1
Jordi Martorell Marugán
Snapshot Date: 2021-01-14 09:00:13 -0500 (Thu, 14 Jan 2021)
URL: https://git.bioconductor.org/packages/mCSEAdata
Branch: master
Last Commit: 07782ff
Last Changed Date: 2020-12-03 06:28:25 -0500 (Thu, 03 Dec 2020)
malbec2 Linux (Ubuntu 20.04.1 LTS) / x86_64 [ OK ] OK  OK UNNEEDED, same version exists in internal repository
riesling1 Windows Server 2019 Standard / x64  OK  OK  WARNINGS 

Summary

Package: mCSEAdata
Version: 1.11.1
Command: /home/biocbuild/bbs-3.13-bioc/R/bin/R CMD INSTALL mCSEAdata
StartedAt: 2021-01-14 09:48:30 -0500 (Thu, 14 Jan 2021)
EndedAt: 2021-01-14 09:48:55 -0500 (Thu, 14 Jan 2021)
EllapsedTime: 24.9 seconds
RetCode: 0
Status:  OK 

Command output

##############################################################################
##############################################################################
###
### Running command:
###
###   /home/biocbuild/bbs-3.13-bioc/R/bin/R CMD INSTALL mCSEAdata
###
##############################################################################
##############################################################################


* installing to library ‘/home/biocbuild/bbs-3.13-bioc/R/library’
* installing *source* package ‘mCSEAdata’ ...
** using staged installation
** data
*** moving datasets to lazyload DB
** inst
** help
*** installing help indices
** building package indices
** installing vignettes
** testing if installed package can be loaded from temporary location
** testing if installed package can be loaded from final location
** testing if installed package keeps a record of temporary installation path
* DONE (mCSEAdata)