Back to Multiple platform build/check report for BioC 3.13 experimental data
ABCDEFGHIJKLMNO[P]QRSTUVWXYZ

INSTALL report for pepDat on malbec2

This page was generated on 2021-01-21 16:01:16 -0500 (Thu, 21 Jan 2021).

TO THE DEVELOPERS/MAINTAINERS OF THE pepDat PACKAGE: Please make sure to use the following settings in order to reproduce any error or warning you see on this page.
Package 263/386HostnameOS / ArchINSTALLBUILDCHECK
pepDat 1.11.0
Renan Sauteraud
Snapshot Date: 2021-01-21 09:00:14 -0500 (Thu, 21 Jan 2021)
URL: https://git.bioconductor.org/packages/pepDat
Branch: master
Last Commit: b26683e
Last Changed Date: 2020-10-27 10:09:25 -0500 (Tue, 27 Oct 2020)
malbec2 Linux (Ubuntu 20.04.1 LTS) / x86_64 [ OK ] OK  OK UNNEEDED, same version exists in internal repository
riesling1 Windows Server 2019 Standard / x64  OK  OK  OK 

Summary

Package: pepDat
Version: 1.11.0
Command: /home/biocbuild/bbs-3.13-bioc/R/bin/R CMD INSTALL pepDat
StartedAt: 2021-01-21 09:56:47 -0500 (Thu, 21 Jan 2021)
EndedAt: 2021-01-21 09:56:58 -0500 (Thu, 21 Jan 2021)
EllapsedTime: 11.4 seconds
RetCode: 0
Status:  OK 

Command output

##############################################################################
##############################################################################
###
### Running command:
###
###   /home/biocbuild/bbs-3.13-bioc/R/bin/R CMD INSTALL pepDat
###
##############################################################################
##############################################################################


* installing to library ‘/home/biocbuild/bbs-3.13-bioc/R/library’
* installing *source* package ‘pepDat’ ...
** using staged installation
** R
** data
** inst
** byte-compile and prepare package for lazy loading
** help
*** installing help indices
** building package indices
** installing vignettes
** testing if installed package can be loaded from temporary location
** testing if installed package can be loaded from final location
** testing if installed package keeps a record of temporary installation path
* DONE (pepDat)