Back to Multiple platform build/check report for BioC 3.13 experimental data
ABCDEFGHIJKLMNO[P]QRSTUVWXYZ

BUILD report for prostateCancerTaylor on malbec2

This page was generated on 2021-01-14 15:59:04 -0500 (Thu, 14 Jan 2021).

TO THE DEVELOPERS/MAINTAINERS OF THE prostateCancerTaylor PACKAGE: Please make sure to use the following settings in order to reproduce any error or warning you see on this page.
Package 276/385HostnameOS / ArchINSTALLBUILDCHECK
prostateCancerTaylor 1.19.0
Mark Dunning
Snapshot Date: 2021-01-14 09:00:13 -0500 (Thu, 14 Jan 2021)
URL: https://git.bioconductor.org/packages/prostateCancerTaylor
Branch: master
Last Commit: 594bd01
Last Changed Date: 2020-10-27 10:18:13 -0500 (Tue, 27 Oct 2020)
malbec2 Linux (Ubuntu 20.04.1 LTS) / x86_64  OK [ OK ] OK UNNEEDED, same version exists in internal repository
riesling1 Windows Server 2019 Standard / x64  OK  OK  OK 

Summary

Package: prostateCancerTaylor
Version: 1.19.0
Command: /home/biocbuild/bbs-3.13-bioc/R/bin/R CMD build --keep-empty-dirs --no-resave-data prostateCancerTaylor
StartedAt: 2021-01-14 11:17:45 -0500 (Thu, 14 Jan 2021)
EndedAt: 2021-01-14 11:18:05 -0500 (Thu, 14 Jan 2021)
EllapsedTime: 19.9 seconds
RetCode: 0
Status:  OK 
PackageFile: prostateCancerTaylor_1.19.0.tar.gz
PackageFileSize: 25.75 MiB

Command output

##############################################################################
##############################################################################
###
### Running command:
###
###   /home/biocbuild/bbs-3.13-bioc/R/bin/R CMD build --keep-empty-dirs --no-resave-data prostateCancerTaylor
###
##############################################################################
##############################################################################


* checking for file ‘prostateCancerTaylor/DESCRIPTION’ ... OK
* preparing ‘prostateCancerTaylor’:
* checking DESCRIPTION meta-information ... OK
* installing the package to build vignettes
* creating vignettes ... OK
* checking for LF line-endings in source and make files and shell scripts
* checking for empty or unneeded directories
* building ‘prostateCancerTaylor_1.19.0.tar.gz’