Back to Multiple platform build/check report for BioC 3.13 experimental data
ABCDEFGHIJK[L]MNOPQRSTUVWXYZ

INSTALL report for LungCancerLines on malbec2

This page was generated on 2021-01-21 16:01:13 -0500 (Thu, 21 Jan 2021).

TO THE DEVELOPERS/MAINTAINERS OF THE LungCancerLines PACKAGE: Please make sure to use the following settings in order to reproduce any error or warning you see on this page.
Package 201/386HostnameOS / ArchINSTALLBUILDCHECK
LungCancerLines 0.29.0
Cory Barr
Snapshot Date: 2021-01-21 09:00:14 -0500 (Thu, 21 Jan 2021)
URL: https://git.bioconductor.org/packages/LungCancerLines
Branch: master
Last Commit: d457e3e
Last Changed Date: 2020-10-27 10:00:08 -0500 (Tue, 27 Oct 2020)
malbec2 Linux (Ubuntu 20.04.1 LTS) / x86_64 [ OK ] OK  OK UNNEEDED, same version exists in internal repository
riesling1 Windows Server 2019 Standard / x64  OK  OK  OK 

Summary

Package: LungCancerLines
Version: 0.29.0
Command: /home/biocbuild/bbs-3.13-bioc/R/bin/R CMD INSTALL LungCancerLines
StartedAt: 2021-01-21 09:59:59 -0500 (Thu, 21 Jan 2021)
EndedAt: 2021-01-21 10:00:16 -0500 (Thu, 21 Jan 2021)
EllapsedTime: 17.1 seconds
RetCode: 0
Status:  OK 

Command output

##############################################################################
##############################################################################
###
### Running command:
###
###   /home/biocbuild/bbs-3.13-bioc/R/bin/R CMD INSTALL LungCancerLines
###
##############################################################################
##############################################################################


* installing to library ‘/home/biocbuild/bbs-3.13-bioc/R/library’
* installing *source* package ‘LungCancerLines’ ...
** using staged installation
** R
** inst
** byte-compile and prepare package for lazy loading
** help
*** installing help indices
** building package indices
** testing if installed package can be loaded from temporary location
** testing if installed package can be loaded from final location
** testing if installed package keeps a record of temporary installation path
* DONE (LungCancerLines)