Back to Multiple platform build/check report for BioC 3.13 experimental data
ABCDEFGHIJ[K]LMNOPQRSTUVWXYZ

BUILD report for kidpack on malbec2

This page was generated on 2021-01-11 15:59:23 -0500 (Mon, 11 Jan 2021).

TO THE DEVELOPERS/MAINTAINERS OF THE kidpack PACKAGE: Please make sure to use the following settings in order to reproduce any error or warning you see on this page.
Package 193/385HostnameOS / ArchINSTALLBUILDCHECK
kidpack 1.33.0
Wolfgang Huber
Snapshot Date: 2021-01-11 09:00:09 -0500 (Mon, 11 Jan 2021)
URL: https://git.bioconductor.org/packages/kidpack
Branch: master
Last Commit: b3e71ba
Last Changed Date: 2020-10-27 09:46:40 -0500 (Tue, 27 Oct 2020)
malbec2 Linux (Ubuntu 20.04.1 LTS) / x86_64  OK [ OK ] WARNINGS UNNEEDED, same version exists in internal repository
riesling1 Windows Server 2019 Standard / x64  OK  OK  WARNINGS 

Summary

Package: kidpack
Version: 1.33.0
Command: /home/biocbuild/bbs-3.13-bioc/R/bin/R CMD build --keep-empty-dirs --no-resave-data kidpack
StartedAt: 2021-01-11 11:03:06 -0500 (Mon, 11 Jan 2021)
EndedAt: 2021-01-11 11:03:19 -0500 (Mon, 11 Jan 2021)
EllapsedTime: 12.6 seconds
RetCode: 0
Status:  OK 
PackageFile: kidpack_1.33.0.tar.gz
PackageFileSize: 18.34 MiB

Command output

##############################################################################
##############################################################################
###
### Running command:
###
###   /home/biocbuild/bbs-3.13-bioc/R/bin/R CMD build --keep-empty-dirs --no-resave-data kidpack
###
##############################################################################
##############################################################################


* checking for file ‘kidpack/DESCRIPTION’ ... OK
* preparing ‘kidpack’:
* checking DESCRIPTION meta-information ... OK
* installing the package to build vignettes
* creating vignettes ... OK
* checking for LF line-endings in source and make files and shell scripts
* checking for empty or unneeded directories
* looking to see if a ‘data/datalist’ file should be added
* building ‘kidpack_1.33.0.tar.gz’