Back to Multiple platform build/check report for BioC 3.13 experimental data
ABCDEFGHIJKL[M]NOPQRSTUVWXYZ

INSTALL report for msdata on malbec2

This page was generated on 2021-01-14 15:59:03 -0500 (Thu, 14 Jan 2021).

TO THE DEVELOPERS/MAINTAINERS OF THE msdata PACKAGE: Please make sure to use the following settings in order to reproduce any error or warning you see on this page.
Package 236/385HostnameOS / ArchINSTALLBUILDCHECK
msdata 0.31.1
Steffen Neumann , Laurent Gatto
Snapshot Date: 2021-01-14 09:00:13 -0500 (Thu, 14 Jan 2021)
URL: https://git.bioconductor.org/packages/msdata
Branch: master
Last Commit: d1cc52d
Last Changed Date: 2020-12-29 12:36:57 -0500 (Tue, 29 Dec 2020)
malbec2 Linux (Ubuntu 20.04.1 LTS) / x86_64 [ OK ] OK  OK UNNEEDED, same version exists in internal repository
riesling1 Windows Server 2019 Standard / x64  OK  OK  OK 

Summary

Package: msdata
Version: 0.31.1
Command: /home/biocbuild/bbs-3.13-bioc/R/bin/R CMD INSTALL msdata
StartedAt: 2021-01-14 09:50:19 -0500 (Thu, 14 Jan 2021)
EndedAt: 2021-01-14 09:52:09 -0500 (Thu, 14 Jan 2021)
EllapsedTime: 109.9 seconds
RetCode: 0
Status:  OK 

Command output

##############################################################################
##############################################################################
###
### Running command:
###
###   /home/biocbuild/bbs-3.13-bioc/R/bin/R CMD INSTALL msdata
###
##############################################################################
##############################################################################


* installing to library ‘/home/biocbuild/bbs-3.13-bioc/R/library’
* installing *source* package ‘msdata’ ...
** using staged installation
** R
** data
** inst
** byte-compile and prepare package for lazy loading
** help
*** installing help indices
** building package indices
** testing if installed package can be loaded from temporary location
** testing if installed package can be loaded from final location
** testing if installed package keeps a record of temporary installation path
* DONE (msdata)