Back to Multiple platform build/check report for BioC 3.13 experimental data
ABCDEFGHIJKL[M]NOPQRSTUVWXYZ

BUILD report for metaMSdata on malbec2

This page was generated on 2021-01-21 16:01:14 -0500 (Thu, 21 Jan 2021).

TO THE DEVELOPERS/MAINTAINERS OF THE metaMSdata PACKAGE: Please make sure to use the following settings in order to reproduce any error or warning you see on this page.
Package 219/386HostnameOS / ArchINSTALLBUILDCHECK
metaMSdata 1.27.0
Yann Guitton
Snapshot Date: 2021-01-21 09:00:14 -0500 (Thu, 21 Jan 2021)
URL: https://git.bioconductor.org/packages/metaMSdata
Branch: master
Last Commit: 589e2fb
Last Changed Date: 2020-10-27 10:08:44 -0500 (Tue, 27 Oct 2020)
malbec2 Linux (Ubuntu 20.04.1 LTS) / x86_64  OK [ OK ] OK UNNEEDED, same version exists in internal repository
riesling1 Windows Server 2019 Standard / x64  OK  OK  OK 

Summary

Package: metaMSdata
Version: 1.27.0
Command: /home/biocbuild/bbs-3.13-bioc/R/bin/R CMD build --keep-empty-dirs --no-resave-data metaMSdata
StartedAt: 2021-01-21 11:06:20 -0500 (Thu, 21 Jan 2021)
EndedAt: 2021-01-21 11:11:25 -0500 (Thu, 21 Jan 2021)
EllapsedTime: 304.2 seconds
RetCode: 0
Status:  OK 
PackageFile: metaMSdata_1.27.0.tar.gz
PackageFileSize: 121.9 MiB

Command output

##############################################################################
##############################################################################
###
### Running command:
###
###   /home/biocbuild/bbs-3.13-bioc/R/bin/R CMD build --keep-empty-dirs --no-resave-data metaMSdata
###
##############################################################################
##############################################################################


* checking for file ‘metaMSdata/DESCRIPTION’ ... OK
* preparing ‘metaMSdata’:
* checking DESCRIPTION meta-information ... OK
* checking for LF line-endings in source and make files and shell scripts
* checking for empty or unneeded directories
* building ‘metaMSdata_1.27.0.tar.gz’