Back to Multiple platform build/check report for BioC 3.13 experimental data
ABC[D]EFGHIJKLMNOPQRSTUVWXYZ

INSTALL report for diffloopdata on malbec2

This page was generated on 2021-01-11 15:59:21 -0500 (Mon, 11 Jan 2021).

TO THE DEVELOPERS/MAINTAINERS OF THE diffloopdata PACKAGE: Please make sure to use the following settings in order to reproduce any error or warning you see on this page.
Package 93/385HostnameOS / ArchINSTALLBUILDCHECK
diffloopdata 1.19.0
Caleb Lareau
Snapshot Date: 2021-01-11 09:00:09 -0500 (Mon, 11 Jan 2021)
URL: https://git.bioconductor.org/packages/diffloopdata
Branch: master
Last Commit: fc3780d
Last Changed Date: 2020-10-27 10:19:08 -0500 (Tue, 27 Oct 2020)
malbec2 Linux (Ubuntu 20.04.1 LTS) / x86_64 [ OK ] OK  OK UNNEEDED, same version exists in internal repository
riesling1 Windows Server 2019 Standard / x64  OK  OK  OK 

Summary

Package: diffloopdata
Version: 1.19.0
Command: /home/biocbuild/bbs-3.13-bioc/R/bin/R CMD INSTALL diffloopdata
StartedAt: 2021-01-11 10:06:28 -0500 (Mon, 11 Jan 2021)
EndedAt: 2021-01-11 10:06:31 -0500 (Mon, 11 Jan 2021)
EllapsedTime: 3.0 seconds
RetCode: 0
Status:  OK 

Command output

##############################################################################
##############################################################################
###
### Running command:
###
###   /home/biocbuild/bbs-3.13-bioc/R/bin/R CMD INSTALL diffloopdata
###
##############################################################################
##############################################################################


* installing to library ‘/home/biocbuild/bbs-3.13-bioc/R/library’
* installing *source* package ‘diffloopdata’ ...
** using staged installation
** inst
** help
No man pages found in package  ‘diffloopdata’ 
*** installing help indices
** building package indices
** installing vignettes
** testing if installed package can be loaded from temporary location
** testing if installed package can be loaded from final location
** testing if installed package keeps a record of temporary installation path
* DONE (diffloopdata)