Back to Multiple platform build/check report for BioC 3.13 experimental data
ABCDEFGHIJKLMNOPQR[S]TUVWXYZ

INSTALL report for Single.mTEC.Transcriptomes on malbec2

This page was generated on 2021-01-21 16:01:21 -0500 (Thu, 21 Jan 2021).

TO THE DEVELOPERS/MAINTAINERS OF THE Single.mTEC.Transcriptomes PACKAGE: Please make sure to use the following settings in order to reproduce any error or warning you see on this page.
Package 335/386HostnameOS / ArchINSTALLBUILDCHECK
Single.mTEC.Transcriptomes 1.19.0
Alejandro Reyes
Snapshot Date: 2021-01-21 09:00:14 -0500 (Thu, 21 Jan 2021)
URL: https://git.bioconductor.org/packages/Single.mTEC.Transcriptomes
Branch: master
Last Commit: 90db919
Last Changed Date: 2020-10-27 10:16:10 -0500 (Tue, 27 Oct 2020)
malbec2 Linux (Ubuntu 20.04.1 LTS) / x86_64 [ OK ] OK  OK UNNEEDED, same version exists in internal repository
riesling1 Windows Server 2019 Standard / x64  OK  OK  OK 

Summary

Package: Single.mTEC.Transcriptomes
Version: 1.19.0
Command: /home/biocbuild/bbs-3.13-bioc/R/bin/R CMD INSTALL Single.mTEC.Transcriptomes
StartedAt: 2021-01-21 09:56:25 -0500 (Thu, 21 Jan 2021)
EndedAt: 2021-01-21 09:56:41 -0500 (Thu, 21 Jan 2021)
EllapsedTime: 16.7 seconds
RetCode: 0
Status:  OK 

Command output

##############################################################################
##############################################################################
###
### Running command:
###
###   /home/biocbuild/bbs-3.13-bioc/R/bin/R CMD INSTALL Single.mTEC.Transcriptomes
###
##############################################################################
##############################################################################


* installing to library ‘/home/biocbuild/bbs-3.13-bioc/R/library’
* installing *source* package ‘Single.mTEC.Transcriptomes’ ...
** using staged installation
** R
** data
** inst
** byte-compile and prepare package for lazy loading
** help
*** installing help indices
** building package indices
** installing vignettes
** testing if installed package can be loaded from temporary location
** testing if installed package can be loaded from final location
** testing if installed package keeps a record of temporary installation path
* DONE (Single.mTEC.Transcriptomes)