Back to Multiple platform build/check report for BioC 3.13 experimental data
[A]BCDEFGHIJKLMNOPQRSTUVWXYZ

INSTALL report for AssessORFData on malbec2

This page was generated on 2021-01-18 15:58:31 -0500 (Mon, 18 Jan 2021).

TO THE DEVELOPERS/MAINTAINERS OF THE AssessORFData PACKAGE: Please make sure to use the following settings in order to reproduce any error or warning you see on this page.
Package 21/385HostnameOS / ArchINSTALLBUILDCHECK
AssessORFData 1.9.0
Deepank Korandla
Snapshot Date: 2021-01-18 09:00:15 -0500 (Mon, 18 Jan 2021)
URL: https://git.bioconductor.org/packages/AssessORFData
Branch: master
Last Commit: a2da368
Last Changed Date: 2020-10-27 10:28:32 -0500 (Tue, 27 Oct 2020)
malbec2 Linux (Ubuntu 20.04.1 LTS) / x86_64 [ OK ] OK  OK UNNEEDED, same version exists in internal repository
riesling1 Windows Server 2019 Standard / x64  OK  OK  OK 

Summary

Package: AssessORFData
Version: 1.9.0
Command: /home/biocbuild/bbs-3.13-bioc/R/bin/R CMD INSTALL AssessORFData
StartedAt: 2021-01-18 09:59:00 -0500 (Mon, 18 Jan 2021)
EndedAt: 2021-01-18 10:00:37 -0500 (Mon, 18 Jan 2021)
EllapsedTime: 97.5 seconds
RetCode: 0
Status:  OK 

Command output

##############################################################################
##############################################################################
###
### Running command:
###
###   /home/biocbuild/bbs-3.13-bioc/R/bin/R CMD INSTALL AssessORFData
###
##############################################################################
##############################################################################


* installing to library ‘/home/biocbuild/bbs-3.13-bioc/R/library’
* installing *source* package ‘AssessORFData’ ...
** using staged installation
** R
** data
** inst
** byte-compile and prepare package for lazy loading
** help
*** installing help indices
** building package indices
** installing vignettes
** testing if installed package can be loaded from temporary location
** testing if installed package can be loaded from final location
** testing if installed package keeps a record of temporary installation path
* DONE (AssessORFData)