Back to Multiple platform build/check report for BioC 3.13 experimental data |
|
This page was generated on 2021-01-21 16:01:08 -0500 (Thu, 21 Jan 2021).
TO THE DEVELOPERS/MAINTAINERS OF THE EatonEtAlChIPseq PACKAGE: Please make sure to use the following settings in order to reproduce any error or warning you see on this page. |
Package 108/386 | Hostname | OS / Arch | INSTALL | BUILD | CHECK | ||||||
EatonEtAlChIPseq 0.29.0 Patrick Aboyoun
| malbec2 | Linux (Ubuntu 20.04.1 LTS) / x86_64 | OK | [ OK ] | WARNINGS | ![]() | |||||
riesling1 | Windows Server 2019 Standard / x64 | OK | OK | WARNINGS |
Package: EatonEtAlChIPseq |
Version: 0.29.0 |
Command: /home/biocbuild/bbs-3.13-bioc/R/bin/R CMD build --keep-empty-dirs --no-resave-data EatonEtAlChIPseq |
StartedAt: 2021-01-21 10:39:48 -0500 (Thu, 21 Jan 2021) |
EndedAt: 2021-01-21 10:39:51 -0500 (Thu, 21 Jan 2021) |
EllapsedTime: 2.3 seconds |
RetCode: 0 |
Status: OK |
PackageFile: EatonEtAlChIPseq_0.29.0.tar.gz |
PackageFileSize: 20.5 MiB |
############################################################################## ############################################################################## ### ### Running command: ### ### /home/biocbuild/bbs-3.13-bioc/R/bin/R CMD build --keep-empty-dirs --no-resave-data EatonEtAlChIPseq ### ############################################################################## ############################################################################## * checking for file ‘EatonEtAlChIPseq/DESCRIPTION’ ... OK * preparing ‘EatonEtAlChIPseq’: * checking DESCRIPTION meta-information ... OK * checking for LF line-endings in source and make files and shell scripts * checking for empty or unneeded directories * looking to see if a ‘data/datalist’ file should be added * building ‘EatonEtAlChIPseq_0.29.0.tar.gz’