Back to Multiple platform build/check report for BioC 3.13 experimental data
ABCDEFG[H]IJKLMNOPQRSTUVWXYZ

BUILD report for hmyriB36 on malbec2

This page was generated on 2021-01-11 15:59:23 -0500 (Mon, 11 Jan 2021).

TO THE DEVELOPERS/MAINTAINERS OF THE hmyriB36 PACKAGE: Please make sure to use the following settings in order to reproduce any error or warning you see on this page.
Package 179/385HostnameOS / ArchINSTALLBUILDCHECK
hmyriB36 1.27.1
Vincent Carey
Snapshot Date: 2021-01-11 09:00:09 -0500 (Mon, 11 Jan 2021)
URL: https://git.bioconductor.org/packages/hmyriB36
Branch: master
Last Commit: 6d8b85f
Last Changed Date: 2020-11-30 08:25:13 -0500 (Mon, 30 Nov 2020)
malbec2 Linux (Ubuntu 20.04.1 LTS) / x86_64  ERROR [ OK ] ERROR 
riesling1 Windows Server 2019 Standard / x64  ERROR  OK  ERROR 

Summary

Package: hmyriB36
Version: 1.27.1
Command: /home/biocbuild/bbs-3.13-bioc/R/bin/R CMD build --keep-empty-dirs --no-resave-data hmyriB36
StartedAt: 2021-01-11 11:00:54 -0500 (Mon, 11 Jan 2021)
EndedAt: 2021-01-11 11:01:05 -0500 (Mon, 11 Jan 2021)
EllapsedTime: 10.5 seconds
RetCode: 0
Status:  OK 
PackageFile: hmyriB36_1.27.1.tar.gz
PackageFileSize: 79.7 MiB

Command output

##############################################################################
##############################################################################
###
### Running command:
###
###   /home/biocbuild/bbs-3.13-bioc/R/bin/R CMD build --keep-empty-dirs --no-resave-data hmyriB36
###
##############################################################################
##############################################################################


* checking for file ‘hmyriB36/DESCRIPTION’ ... OK
* preparing ‘hmyriB36’:
* checking DESCRIPTION meta-information ... OK
* checking for LF line-endings in source and make files and shell scripts
* checking for empty or unneeded directories
* looking to see if a ‘data/datalist’ file should be added
* building ‘hmyriB36_1.27.1.tar.gz’