Back to Multiple platform build/check report for BioC 3.13 experimental data |
|
This page was generated on 2021-01-14 15:59:04 -0500 (Thu, 14 Jan 2021).
TO THE DEVELOPERS/MAINTAINERS OF THE PWMEnrich.Dmelanogaster.background PACKAGE: Please make sure to use the following settings in order to reproduce any error or warning you see on this page. |
Package 280/385 | Hostname | OS / Arch | INSTALL | BUILD | CHECK | ||||||
PWMEnrich.Dmelanogaster.background 4.25.0 Diego Diez
| malbec2 | Linux (Ubuntu 20.04.1 LTS) / x86_64 | OK | [ OK ] | WARNINGS | ![]() | |||||
riesling1 | Windows Server 2019 Standard / x64 | OK | OK | WARNINGS |
Package: PWMEnrich.Dmelanogaster.background |
Version: 4.25.0 |
Command: /home/biocbuild/bbs-3.13-bioc/R/bin/R CMD build --keep-empty-dirs --no-resave-data PWMEnrich.Dmelanogaster.background |
StartedAt: 2021-01-14 11:17:59 -0500 (Thu, 14 Jan 2021) |
EndedAt: 2021-01-14 11:18:01 -0500 (Thu, 14 Jan 2021) |
EllapsedTime: 1.5 seconds |
RetCode: 0 |
Status: OK |
PackageFile: PWMEnrich.Dmelanogaster.background_4.25.0.tar.gz |
PackageFileSize: 7.739 MiB |
############################################################################## ############################################################################## ### ### Running command: ### ### /home/biocbuild/bbs-3.13-bioc/R/bin/R CMD build --keep-empty-dirs --no-resave-data PWMEnrich.Dmelanogaster.background ### ############################################################################## ############################################################################## * checking for file ‘PWMEnrich.Dmelanogaster.background/DESCRIPTION’ ... OK * preparing ‘PWMEnrich.Dmelanogaster.background’: * checking DESCRIPTION meta-information ... OK * checking for LF line-endings in source and make files and shell scripts * checking for empty or unneeded directories * looking to see if a ‘data/datalist’ file should be added * building ‘PWMEnrich.Dmelanogaster.background_4.25.0.tar.gz’