Back to Multiple platform build/check report for BioC 3.13 experimental data
ABC[D]EFGHIJKLMNOPQRSTUVWXYZ

CHECK report for DrugVsDiseasedata on malbec2

This page was generated on 2021-01-21 16:01:08 -0500 (Thu, 21 Jan 2021).

TO THE DEVELOPERS/MAINTAINERS OF THE DrugVsDiseasedata PACKAGE: Please make sure to use the following settings in order to reproduce any error or warning you see on this page.
Package 103/386HostnameOS / ArchINSTALLBUILDCHECK
DrugVsDiseasedata 1.27.0
J. Saez-Rodriguez
Snapshot Date: 2021-01-21 09:00:14 -0500 (Thu, 21 Jan 2021)
URL: https://git.bioconductor.org/packages/DrugVsDiseasedata
Branch: master
Last Commit: 3e2ff74
Last Changed Date: 2020-10-27 10:01:18 -0500 (Tue, 27 Oct 2020)
malbec2 Linux (Ubuntu 20.04.1 LTS) / x86_64  OK  OK [ OK ]UNNEEDED, same version exists in internal repository
riesling1 Windows Server 2019 Standard / x64  OK  OK  OK 

Summary

Package: DrugVsDiseasedata
Version: 1.27.0
Command: /home/biocbuild/bbs-3.13-bioc/R/bin/R CMD check --install=check:DrugVsDiseasedata.install-out.txt --library=/home/biocbuild/bbs-3.13-bioc/R/library --no-vignettes --timings DrugVsDiseasedata_1.27.0.tar.gz
StartedAt: 2021-01-21 11:59:42 -0500 (Thu, 21 Jan 2021)
EndedAt: 2021-01-21 11:59:55 -0500 (Thu, 21 Jan 2021)
EllapsedTime: 12.4 seconds
RetCode: 0
Status:  OK 
CheckDir: DrugVsDiseasedata.Rcheck
Warnings: 0

Command output

##############################################################################
##############################################################################
###
### Running command:
###
###   /home/biocbuild/bbs-3.13-bioc/R/bin/R CMD check --install=check:DrugVsDiseasedata.install-out.txt --library=/home/biocbuild/bbs-3.13-bioc/R/library --no-vignettes --timings DrugVsDiseasedata_1.27.0.tar.gz
###
##############################################################################
##############################################################################


* using log directory ‘/home/biocbuild/bbs-3.13-data-experiment/meat/DrugVsDiseasedata.Rcheck’
* using R Under development (unstable) (2021-01-05 r79797)
* using platform: x86_64-pc-linux-gnu (64-bit)
* using session charset: UTF-8
* using option ‘--no-vignettes’
* checking for file ‘DrugVsDiseasedata/DESCRIPTION’ ... OK
* checking extension type ... Package
* this is package ‘DrugVsDiseasedata’ version ‘1.27.0’
* checking package namespace information ... OK
* checking package dependencies ... OK
* checking if this is a source package ... OK
* checking if there is a namespace ... OK
* checking for hidden files and directories ... NOTE
Found the following hidden files and directories:
  .git_fetch_output.txt
  .git_merge_output.txt
These were most likely included in error. See section ‘Package
structure’ in the ‘Writing R Extensions’ manual.
* checking for portable file names ... OK
* checking for sufficient/correct file permissions ... OK
* checking whether package ‘DrugVsDiseasedata’ can be installed ... OK
* checking installed package size ... OK
* checking package directory ... OK
* checking ‘build’ directory ... OK
* checking DESCRIPTION meta-information ... OK
* checking top-level files ... OK
* checking for left-over files ... OK
* checking index information ... OK
* checking package subdirectories ... OK
* checking whether the package can be loaded ... OK
* checking whether the package can be loaded with stated dependencies ... OK
* checking whether the package can be unloaded cleanly ... OK
* checking whether the namespace can be loaded with stated dependencies ... OK
* checking whether the namespace can be unloaded cleanly ... OK
* checking Rd files ... NOTE
prepare_Rd: DrugVsDiseasedata-package.Rd:33-35: Dropping empty section \seealso
prepare_Rd: GEOfactorvalues.Rd:18-20: Dropping empty section \references
prepare_Rd: annotationlist.Rd:17-18: Dropping empty section \source
prepare_Rd: genelist.Rd:14-16: Dropping empty section \source
* checking Rd metadata ... OK
* checking Rd cross-references ... OK
* checking for missing documentation entries ... OK
* checking for code/documentation mismatches ... OK
* checking Rd \usage sections ... OK
* checking Rd contents ... OK
* checking for unstated dependencies in examples ... OK
* checking contents of ‘data’ directory ... OK
* checking data for non-ASCII characters ... OK
* checking data for ASCII and uncompressed saves ... OK
* checking files in ‘vignettes’ ... OK
* checking examples ... OK
* checking for unstated dependencies in vignettes ... OK
* checking package vignettes in ‘inst/doc’ ... OK
* checking running R code from vignettes ... SKIPPED
* checking re-building of vignette outputs ... SKIPPED
* checking PDF version of manual ... OK
* DONE

Status: 2 NOTEs
See
  ‘/home/biocbuild/bbs-3.13-data-experiment/meat/DrugVsDiseasedata.Rcheck/00check.log’
for details.



Installation output

DrugVsDiseasedata.Rcheck/00install.out

##############################################################################
##############################################################################
###
### Running command:
###
###   /home/biocbuild/bbs-3.13-bioc/R/bin/R CMD INSTALL DrugVsDiseasedata
###
##############################################################################
##############################################################################


* installing to library ‘/home/biocbuild/bbs-3.13-bioc/R/library’
* installing *source* package ‘DrugVsDiseasedata’ ...
** using staged installation
** data
*** moving datasets to lazyload DB
** help
*** installing help indices
** building package indices
** installing vignettes
** testing if installed package can be loaded from temporary location
** testing if installed package can be loaded from final location
** testing if installed package keeps a record of temporary installation path
* DONE (DrugVsDiseasedata)

Tests output


Example timings

DrugVsDiseasedata.Rcheck/DrugVsDiseasedata-Ex.timings

nameusersystemelapsed
DrugVsDiseasedata-package0.0120.0000.011
GEOfactorvalues0.0010.0000.000
annotationlist0.0010.0000.000
cytodisease0.0010.0000.001
diseaseClusters0.0000.0010.001
diseaseRL0.0000.0010.001
diseaselabels0.0000.0010.001
genelist0.0010.0000.000