Back to Multiple platform build/check report for BioC 3.13 experimental data |
|
This page was generated on 2021-01-14 15:59:05 -0500 (Thu, 14 Jan 2021).
TO THE DEVELOPERS/MAINTAINERS OF THE stemHypoxia PACKAGE: Please make sure to use the following settings in order to reproduce any error or warning you see on this page. |
Package 345/385 | Hostname | OS / Arch | INSTALL | BUILD | CHECK | ||||||
stemHypoxia 1.27.0 Cristobal Fresno
| malbec2 | Linux (Ubuntu 20.04.1 LTS) / x86_64 | OK | [ OK ] | OK | ![]() | |||||
riesling1 | Windows Server 2019 Standard / x64 | OK | OK | OK |
Package: stemHypoxia |
Version: 1.27.0 |
Command: /home/biocbuild/bbs-3.13-bioc/R/bin/R CMD build --keep-empty-dirs --no-resave-data stemHypoxia |
StartedAt: 2021-01-14 11:31:39 -0500 (Thu, 14 Jan 2021) |
EndedAt: 2021-01-14 11:31:41 -0500 (Thu, 14 Jan 2021) |
EllapsedTime: 2.0 seconds |
RetCode: 0 |
Status: OK |
PackageFile: stemHypoxia_1.27.0.tar.gz |
PackageFileSize: 2.773 MiB |
############################################################################## ############################################################################## ### ### Running command: ### ### /home/biocbuild/bbs-3.13-bioc/R/bin/R CMD build --keep-empty-dirs --no-resave-data stemHypoxia ### ############################################################################## ############################################################################## * checking for file ‘stemHypoxia/DESCRIPTION’ ... OK * preparing ‘stemHypoxia’: * checking DESCRIPTION meta-information ... OK * checking for LF line-endings in source and make files and shell scripts * checking for empty or unneeded directories * looking to see if a ‘data/datalist’ file should be added * building ‘stemHypoxia_1.27.0.tar.gz’