Back to Multiple platform build/check report for BioC 3.13 experimental data |
|
This page was generated on 2021-01-14 15:59:03 -0500 (Thu, 14 Jan 2021).
TO THE DEVELOPERS/MAINTAINERS OF THE humanStemCell PACKAGE: Please make sure to use the following settings in order to reproduce any error or warning you see on this page. |
Package 182/385 | Hostname | OS / Arch | INSTALL | BUILD | CHECK | ||||||
humanStemCell 0.31.0 R. Gentleman
| malbec2 | Linux (Ubuntu 20.04.1 LTS) / x86_64 | OK | [ OK ] | WARNINGS | ![]() | |||||
riesling1 | Windows Server 2019 Standard / x64 | OK | OK | WARNINGS |
Package: humanStemCell |
Version: 0.31.0 |
Command: /home/biocbuild/bbs-3.13-bioc/R/bin/R CMD build --keep-empty-dirs --no-resave-data humanStemCell |
StartedAt: 2021-01-14 11:02:59 -0500 (Thu, 14 Jan 2021) |
EndedAt: 2021-01-14 11:03:58 -0500 (Thu, 14 Jan 2021) |
EllapsedTime: 59.5 seconds |
RetCode: 0 |
Status: OK |
PackageFile: humanStemCell_0.31.0.tar.gz |
PackageFileSize: 30.64 MiB |
############################################################################## ############################################################################## ### ### Running command: ### ### /home/biocbuild/bbs-3.13-bioc/R/bin/R CMD build --keep-empty-dirs --no-resave-data humanStemCell ### ############################################################################## ############################################################################## * checking for file ‘humanStemCell/DESCRIPTION’ ... OK * preparing ‘humanStemCell’: * checking DESCRIPTION meta-information ... OK * checking for LF line-endings in source and make files and shell scripts * checking for empty or unneeded directories * looking to see if a ‘data/datalist’ file should be added * building ‘humanStemCell_0.31.0.tar.gz’