Back to Multiple platform build/check report for BioC 3.13 experimental data |
|
This page was generated on 2021-01-11 15:59:22 -0500 (Mon, 11 Jan 2021).
TO THE DEVELOPERS/MAINTAINERS OF THE gcspikelite PACKAGE: Please make sure to use the following settings in order to reproduce any error or warning you see on this page. |
Package 138/385 | Hostname | OS / Arch | INSTALL | BUILD | CHECK | ||||||
gcspikelite 1.29.0 Mark Robinson
| malbec2 | Linux (Ubuntu 20.04.1 LTS) / x86_64 | OK | [ OK ] | WARNINGS | ![]() | |||||
riesling1 | Windows Server 2019 Standard / x64 | OK | OK | WARNINGS |
Package: gcspikelite |
Version: 1.29.0 |
Command: /home/biocbuild/bbs-3.13-bioc/R/bin/R CMD build --keep-empty-dirs --no-resave-data gcspikelite |
StartedAt: 2021-01-11 10:52:12 -0500 (Mon, 11 Jan 2021) |
EndedAt: 2021-01-11 10:53:00 -0500 (Mon, 11 Jan 2021) |
EllapsedTime: 48.4 seconds |
RetCode: 0 |
Status: OK |
PackageFile: gcspikelite_1.29.0.tar.gz |
PackageFileSize: 21.63 MiB |
############################################################################## ############################################################################## ### ### Running command: ### ### /home/biocbuild/bbs-3.13-bioc/R/bin/R CMD build --keep-empty-dirs --no-resave-data gcspikelite ### ############################################################################## ############################################################################## * checking for file ‘gcspikelite/DESCRIPTION’ ... OK * preparing ‘gcspikelite’: * checking DESCRIPTION meta-information ... OK * checking for LF line-endings in source and make files and shell scripts * checking for empty or unneeded directories * looking to see if a ‘data/datalist’ file should be added * building ‘gcspikelite_1.29.0.tar.gz’