Back to Multiple platform build/check report for BioC 3.13 experimental data
ABCDE[F]GHIJKLMNOPQRSTUVWXYZ

BUILD report for faahKO on malbec2

This page was generated on 2021-01-21 16:01:09 -0500 (Thu, 21 Jan 2021).

TO THE DEVELOPERS/MAINTAINERS OF THE faahKO PACKAGE: Please make sure to use the following settings in order to reproduce any error or warning you see on this page.
Package 114/386HostnameOS / ArchINSTALLBUILDCHECK
faahKO 1.31.0
Steffen Neumann
Snapshot Date: 2021-01-21 09:00:14 -0500 (Thu, 21 Jan 2021)
URL: https://git.bioconductor.org/packages/faahKO
Branch: master
Last Commit: b9fb3c8
Last Changed Date: 2020-10-27 09:45:37 -0500 (Tue, 27 Oct 2020)
malbec2 Linux (Ubuntu 20.04.1 LTS) / x86_64  OK [ OK ] OK UNNEEDED, same version exists in internal repository
riesling1 Windows Server 2019 Standard / x64  OK  OK  WARNINGS 

Summary

Package: faahKO
Version: 1.31.0
Command: /home/biocbuild/bbs-3.13-bioc/R/bin/R CMD build --keep-empty-dirs --no-resave-data faahKO
StartedAt: 2021-01-21 10:41:13 -0500 (Thu, 21 Jan 2021)
EndedAt: 2021-01-21 10:42:00 -0500 (Thu, 21 Jan 2021)
EllapsedTime: 46.6 seconds
RetCode: 0
Status:  OK 
PackageFile: faahKO_1.31.0.tar.gz
PackageFileSize: 16.03 MiB

Command output

##############################################################################
##############################################################################
###
### Running command:
###
###   /home/biocbuild/bbs-3.13-bioc/R/bin/R CMD build --keep-empty-dirs --no-resave-data faahKO
###
##############################################################################
##############################################################################


* checking for file ‘faahKO/DESCRIPTION’ ... OK
* preparing ‘faahKO’:
* checking DESCRIPTION meta-information ... OK
* checking for LF line-endings in source and make files and shell scripts
* checking for empty or unneeded directories
* looking to see if a ‘data/datalist’ file should be added
* building ‘faahKO_1.31.0.tar.gz’