Back to Multiple platform build/check report for BioC 3.13 experimental data
ABCDEFGHIJKLMNOPQR[S]TUVWXYZ

BUILD report for systemPipeRdata on malbec2

This page was generated on 2021-01-21 16:01:22 -0500 (Thu, 21 Jan 2021).

TO THE DEVELOPERS/MAINTAINERS OF THE systemPipeRdata PACKAGE: Please make sure to use the following settings in order to reproduce any error or warning you see on this page.
Package 350/386HostnameOS / ArchINSTALLBUILDCHECK
systemPipeRdata 1.19.1
Thomas Girke
Snapshot Date: 2021-01-21 09:00:14 -0500 (Thu, 21 Jan 2021)
URL: https://git.bioconductor.org/packages/systemPipeRdata
Branch: master
Last Commit: c0cc246
Last Changed Date: 2020-10-29 21:10:57 -0500 (Thu, 29 Oct 2020)
malbec2 Linux (Ubuntu 20.04.1 LTS) / x86_64  OK [ OK ] OK UNNEEDED, same version exists in internal repository
riesling1 Windows Server 2019 Standard / x64  OK  OK  OK 

Summary

Package: systemPipeRdata
Version: 1.19.1
Command: /home/biocbuild/bbs-3.13-bioc/R/bin/R CMD build --keep-empty-dirs --no-resave-data systemPipeRdata
StartedAt: 2021-01-21 11:28:56 -0500 (Thu, 21 Jan 2021)
EndedAt: 2021-01-21 11:30:46 -0500 (Thu, 21 Jan 2021)
EllapsedTime: 110.0 seconds
RetCode: 0
Status:  OK 
PackageFile: systemPipeRdata_1.19.1.tar.gz
PackageFileSize: 262.1 MiB

Command output

##############################################################################
##############################################################################
###
### Running command:
###
###   /home/biocbuild/bbs-3.13-bioc/R/bin/R CMD build --keep-empty-dirs --no-resave-data systemPipeRdata
###
##############################################################################
##############################################################################


* checking for file ‘systemPipeRdata/DESCRIPTION’ ... OK
* preparing ‘systemPipeRdata’:
* checking DESCRIPTION meta-information ... OK
* installing the package to build vignettes
* creating vignettes ... OK
* checking for LF line-endings in source and make files and shell scripts
* checking for empty or unneeded directories
* building ‘systemPipeRdata_1.19.1.tar.gz’