Back to Multiple platform build/check report for BioC 3.13 experimental data
ABCDEFGHIJKLMNOPQR[S]TUVWXYZ

BUILD report for seqCNA.annot on malbec2

This page was generated on 2021-01-18 15:58:40 -0500 (Mon, 18 Jan 2021).

TO THE DEVELOPERS/MAINTAINERS OF THE seqCNA.annot PACKAGE: Please make sure to use the following settings in order to reproduce any error or warning you see on this page.
Package 327/385HostnameOS / ArchINSTALLBUILDCHECK
seqCNA.annot 1.27.0
David Mosen-Ansorena
Snapshot Date: 2021-01-18 09:00:15 -0500 (Mon, 18 Jan 2021)
URL: https://git.bioconductor.org/packages/seqCNA.annot
Branch: master
Last Commit: 1adfbd1
Last Changed Date: 2020-10-27 10:04:53 -0500 (Tue, 27 Oct 2020)
malbec2 Linux (Ubuntu 20.04.1 LTS) / x86_64  OK [ OK ] OK UNNEEDED, same version exists in internal repository
riesling1 Windows Server 2019 Standard / x64  OK  OK  OK 

Summary

Package: seqCNA.annot
Version: 1.27.0
Command: /home/biocbuild/bbs-3.13-bioc/R/bin/R CMD build --keep-empty-dirs --no-resave-data seqCNA.annot
StartedAt: 2021-01-18 11:24:55 -0500 (Mon, 18 Jan 2021)
EndedAt: 2021-01-18 11:24:57 -0500 (Mon, 18 Jan 2021)
EllapsedTime: 2.5 seconds
RetCode: 0
Status:  OK 
PackageFile: seqCNA.annot_1.27.0.tar.gz
PackageFileSize: 14.47 MiB

Command output

##############################################################################
##############################################################################
###
### Running command:
###
###   /home/biocbuild/bbs-3.13-bioc/R/bin/R CMD build --keep-empty-dirs --no-resave-data seqCNA.annot
###
##############################################################################
##############################################################################


* checking for file ‘seqCNA.annot/DESCRIPTION’ ... OK
* preparing ‘seqCNA.annot’:
* checking DESCRIPTION meta-information ... OK
* checking for LF line-endings in source and make files and shell scripts
* checking for empty or unneeded directories
* looking to see if a ‘data/datalist’ file should be added
* building ‘seqCNA.annot_1.27.0.tar.gz’