Back to Multiple platform build/check report for BioC 3.13 experimental data
ABCDEFGH[I]JKLMNOPQRSTUVWXYZ

INSTALL report for ITALICSData on malbec2

This page was generated on 2021-01-18 15:58:37 -0500 (Mon, 18 Jan 2021).

TO THE DEVELOPERS/MAINTAINERS OF THE ITALICSData PACKAGE: Please make sure to use the following settings in order to reproduce any error or warning you see on this page.
Package 186/385HostnameOS / ArchINSTALLBUILDCHECK
ITALICSData 2.29.0
Guillem Rigaill
Snapshot Date: 2021-01-18 09:00:15 -0500 (Mon, 18 Jan 2021)
URL: https://git.bioconductor.org/packages/ITALICSData
Branch: master
Last Commit: 3b9d4f3
Last Changed Date: 2020-10-27 09:50:31 -0500 (Tue, 27 Oct 2020)
malbec2 Linux (Ubuntu 20.04.1 LTS) / x86_64 [ OK ] OK  WARNINGS UNNEEDED, same version exists in internal repository
riesling1 Windows Server 2019 Standard / x64  OK  OK  WARNINGS 

Summary

Package: ITALICSData
Version: 2.29.0
Command: /home/biocbuild/bbs-3.13-bioc/R/bin/R CMD INSTALL ITALICSData
StartedAt: 2021-01-18 09:50:56 -0500 (Mon, 18 Jan 2021)
EndedAt: 2021-01-18 09:51:17 -0500 (Mon, 18 Jan 2021)
EllapsedTime: 21.2 seconds
RetCode: 0
Status:  OK 

Command output

##############################################################################
##############################################################################
###
### Running command:
###
###   /home/biocbuild/bbs-3.13-bioc/R/bin/R CMD INSTALL ITALICSData
###
##############################################################################
##############################################################################


* installing to library ‘/home/biocbuild/bbs-3.13-bioc/R/library’
* installing *source* package ‘ITALICSData’ ...
** using staged installation
** data
** inst
** help
*** installing help indices
** building package indices
** testing if installed package can be loaded from temporary location
** testing if installed package can be loaded from final location
** testing if installed package keeps a record of temporary installation path
* DONE (ITALICSData)