Back to Multiple platform build/check report for BioC 3.13 experimental data
ABCDEFGHIJKLMNO[P]QRSTUVWXYZ

BUILD report for prostateCancerVarambally on malbec2

This page was generated on 2021-01-14 15:59:04 -0500 (Thu, 14 Jan 2021).

TO THE DEVELOPERS/MAINTAINERS OF THE prostateCancerVarambally PACKAGE: Please make sure to use the following settings in order to reproduce any error or warning you see on this page.
Package 277/385HostnameOS / ArchINSTALLBUILDCHECK
prostateCancerVarambally 1.19.0
Mark Dunning
Snapshot Date: 2021-01-14 09:00:13 -0500 (Thu, 14 Jan 2021)
URL: https://git.bioconductor.org/packages/prostateCancerVarambally
Branch: master
Last Commit: b22c3ec
Last Changed Date: 2020-10-27 10:18:22 -0500 (Tue, 27 Oct 2020)
malbec2 Linux (Ubuntu 20.04.1 LTS) / x86_64  OK [ OK ] OK UNNEEDED, same version exists in internal repository
riesling1 Windows Server 2019 Standard / x64  OK  OK  OK 

Summary

Package: prostateCancerVarambally
Version: 1.19.0
Command: /home/biocbuild/bbs-3.13-bioc/R/bin/R CMD build --keep-empty-dirs --no-resave-data prostateCancerVarambally
StartedAt: 2021-01-14 11:17:50 -0500 (Thu, 14 Jan 2021)
EndedAt: 2021-01-14 11:17:59 -0500 (Thu, 14 Jan 2021)
EllapsedTime: 9.1 seconds
RetCode: 0
Status:  OK 
PackageFile: prostateCancerVarambally_1.19.0.tar.gz
PackageFileSize: 5.696 MiB

Command output

##############################################################################
##############################################################################
###
### Running command:
###
###   /home/biocbuild/bbs-3.13-bioc/R/bin/R CMD build --keep-empty-dirs --no-resave-data prostateCancerVarambally
###
##############################################################################
##############################################################################


* checking for file ‘prostateCancerVarambally/DESCRIPTION’ ... OK
* preparing ‘prostateCancerVarambally’:
* checking DESCRIPTION meta-information ... OK
* installing the package to build vignettes
* creating vignettes ... OK
* checking for LF line-endings in source and make files and shell scripts
* checking for empty or unneeded directories
* building ‘prostateCancerVarambally_1.19.0.tar.gz’