Back to Multiple platform build/check report for BioC 3.13 experimental data
ABCDEFGHIJKLMNOPQR[S]TUVWXYZ

BUILD report for scRNAseq on malbec2

This page was generated on 2021-01-18 15:58:39 -0500 (Mon, 18 Jan 2021).

TO THE DEVELOPERS/MAINTAINERS OF THE scRNAseq PACKAGE: Please make sure to use the following settings in order to reproduce any error or warning you see on this page.
Package 323/385HostnameOS / ArchINSTALLBUILDCHECK
scRNAseq 2.5.1
Aaron Lun
Snapshot Date: 2021-01-18 09:00:15 -0500 (Mon, 18 Jan 2021)
URL: https://git.bioconductor.org/packages/scRNAseq
Branch: master
Last Commit: 941045e
Last Changed Date: 2021-01-16 04:53:53 -0500 (Sat, 16 Jan 2021)
malbec2 Linux (Ubuntu 20.04.1 LTS) / x86_64  OK [ OK ] ERROR 
riesling1 Windows Server 2019 Standard / x64  OK  OK  ERROR 

Summary

Package: scRNAseq
Version: 2.5.1
Command: /home/biocbuild/bbs-3.13-bioc/R/bin/R CMD build --keep-empty-dirs --no-resave-data scRNAseq
StartedAt: 2021-01-18 11:24:08 -0500 (Mon, 18 Jan 2021)
EndedAt: 2021-01-18 11:26:33 -0500 (Mon, 18 Jan 2021)
EllapsedTime: 145.7 seconds
RetCode: 0
Status:  OK 
PackageFile: scRNAseq_2.5.1.tar.gz
PackageFileSize: 321.2 KiB

Command output

##############################################################################
##############################################################################
###
### Running command:
###
###   /home/biocbuild/bbs-3.13-bioc/R/bin/R CMD build --keep-empty-dirs --no-resave-data scRNAseq
###
##############################################################################
##############################################################################


* checking for file ‘scRNAseq/DESCRIPTION’ ... OK
* preparing ‘scRNAseq’:
* checking DESCRIPTION meta-information ... OK
* installing the package to process help pages
* saving partial Rd database
* creating vignettes ... OK
* checking for LF line-endings in source and make files and shell scripts
* checking for empty or unneeded directories
* building ‘scRNAseq_2.5.1.tar.gz’